BEGIN:VCALENDAR
VERSION:2.0
PRODID:-//NAPSA - ECPv6.15.20//NONSGML v1.0//EN
CALSCALE:GREGORIAN
METHOD:PUBLISH
X-ORIGINAL-URL:https://www.napsa-now.org
X-WR-CALDESC:Events for NAPSA
REFRESH-INTERVAL;VALUE=DURATION:PT1H
X-Robots-Tag:noindex
X-PUBLISHED-TTL:PT1H
BEGIN:VTIMEZONE
TZID:America/New_York
BEGIN:DAYLIGHT
TZOFFSETFROM:-0500
TZOFFSETTO:-0400
TZNAME:EDT
DTSTART:20240310T070000
END:DAYLIGHT
BEGIN:STANDARD
TZOFFSETFROM:-0400
TZOFFSETTO:-0500
TZNAME:EST
DTSTART:20241103T060000
END:STANDARD
BEGIN:DAYLIGHT
TZOFFSETFROM:-0500
TZOFFSETTO:-0400
TZNAME:EDT
DTSTART:20250309T070000
END:DAYLIGHT
BEGIN:STANDARD
TZOFFSETFROM:-0400
TZOFFSETTO:-0500
TZNAME:EST
DTSTART:20251102T060000
END:STANDARD
BEGIN:DAYLIGHT
TZOFFSETFROM:-0500
TZOFFSETTO:-0400
TZNAME:EDT
DTSTART:20260308T070000
END:DAYLIGHT
BEGIN:STANDARD
TZOFFSETFROM:-0400
TZOFFSETTO:-0500
TZNAME:EST
DTSTART:20261101T060000
END:STANDARD
END:VTIMEZONE
BEGIN:VEVENT
DTSTART;TZID=America/New_York:20250304T140000
DTEND;TZID=America/New_York:20250304T153000
DTSTAMP:20260424T111014
CREATED:20250130T210408Z
LAST-MODIFIED:20250130T210408Z
UID:10000406-1741096800-1741102200@www.napsa-now.org
SUMMARY:Regional Rep Advisory Board (RRAB) Meeting
DESCRIPTION:This meeting is held the 1st Tuesday of the month from 2-3:30 pm EST. \nPlease contact admin@napsa-now.org to gain access to the meetings.
URL:https://www.napsa-now.org/calendar/regional-rep-advisory-board-rrab-meeting-4/2025-03-04/
LOCATION:Virtual
CATEGORIES:Regional Rep Advisory Board (RRAB)
END:VEVENT
BEGIN:VEVENT
DTSTART;TZID=America/New_York:20250311T140000
DTEND;TZID=America/New_York:20250311T143000
DTSTAMP:20260424T111014
CREATED:20250130T194749Z
LAST-MODIFIED:20250130T194749Z
UID:10000374-1741701600-1741703400@www.napsa-now.org
SUMMARY:APS Nurses Group
DESCRIPTION:This meeting is held the 2nd Tuesday of every other month from 2-3:30 pm EST. \nPlease contact admin@napsa-now.org to gain access to the meetings.
URL:https://www.napsa-now.org/calendar/aps-nurses-group/2025-03-11/
LOCATION:Virtual
END:VEVENT
BEGIN:VEVENT
DTSTART;TZID=America/New_York:20250318T130000
DTEND;TZID=America/New_York:20250318T140000
DTSTAMP:20260424T111014
CREATED:20250130T170527Z
LAST-MODIFIED:20250130T170527Z
UID:10000272-1742302800-1742306400@www.napsa-now.org
SUMMARY:NAPSA Development Committee Meeting
DESCRIPTION:This meeting is held the 3rd Tuesday of the month from 1-2 pm EST. \nPlease contact admin@napsa-now.org to gain access to the meetings.
URL:https://www.napsa-now.org/calendar/napsa-development-committee-meeting-2/2025-03-18/
LOCATION:Virtual
CATEGORIES:Development Committee
END:VEVENT
BEGIN:VEVENT
DTSTART;TZID=America/New_York:20250319T150000
DTEND;TZID=America/New_York:20250319T163000
DTSTAMP:20260424T111014
CREATED:20250130T165507Z
LAST-MODIFIED:20250130T165507Z
UID:10000248-1742396400-1742401800@www.napsa-now.org
SUMMARY:Research to Practice (R2P) Meeting
DESCRIPTION:This meeting is held the 3rd Wednesday of the month from 3-4:30 pm EST. \nFor more information on R2P meetings\, please visit: https://www.napsa-now.org/r2p-interest-group-and-resource-library/
URL:https://www.napsa-now.org/calendar/research-to-practice-r2p-meeting-2025/2025-03-19/
LOCATION:Virtual
CATEGORIES:Research to Practice
END:VEVENT
BEGIN:VEVENT
DTSTART;TZID=America/New_York:20250320T160000
DTEND;TZID=America/New_York:20250320T170000
DTSTAMP:20260424T111014
CREATED:20250207T144723Z
LAST-MODIFIED:20250207T144723Z
UID:10000439-1742486400-1742490000@www.napsa-now.org
SUMMARY:Southwest Region Meeting
DESCRIPTION:This meeting is held every two months on the 3rd Thursday of the month from 4-5 pm EST. \nPlease contact admin@napsa-now.org to gain access to the meetings.
URL:https://www.napsa-now.org/calendar/southwest-region-meeting/2025-03-20/
LOCATION:Virtual
CATEGORIES:Regional Meeting,Southwest Region
END:VEVENT
BEGIN:VEVENT
DTSTART;VALUE=DATE:20250321
DTEND;VALUE=DATE:20250322
DTSTAMP:20260424T111014
CREATED:20250228T144806Z
LAST-MODIFIED:20250228T150400Z
UID:10000447-1742515200-1742601599@www.napsa-now.org
SUMMARY:Workshop Proposal Submission Deadline
DESCRIPTION:The NAPSA Conference would not be possible without the invaluable contributions of our workshop presenters! Aligned with the 2025 NAPSA Conference theme\, “Building Partnerships\, Inspiring Innovation\,” we encourage workshop topics that showcase collaborative efforts\, groundbreaking research\, and innovative strategies driving APS forward. Click here to submit your 2025 NAPSA Conference workshop proposal!
URL:https://www.napsa-now.org/calendar/workshop-proposal-submission-deadline/
LOCATION:Virtual
END:VEVENT
BEGIN:VEVENT
DTSTART;TZID=America/New_York:20250321T143000
DTEND;TZID=America/New_York:20250321T153000
DTSTAMP:20260424T111014
CREATED:20250130T212802Z
LAST-MODIFIED:20250130T212802Z
UID:10000418-1742567400-1742571000@www.napsa-now.org
SUMMARY:Public Policy Committee Meeting
DESCRIPTION:This meeting is held the 3rd Friday of the month from 2:30-3:30 pm EST. \nPlease contact admin@napsa-now.org to gain access to the meetings.
URL:https://www.napsa-now.org/calendar/public-policy-committee-meeting-3/2025-03-21/
LOCATION:Virtual
CATEGORIES:Public Policy Committee
END:VEVENT
BEGIN:VEVENT
DTSTART;TZID=America/New_York:20250327T123000
DTEND;TZID=America/New_York:20250327T133000
DTSTAMP:20260424T111014
CREATED:20250130T170739Z
LAST-MODIFIED:20250130T170739Z
UID:10000284-1743078600-1743082200@www.napsa-now.org
SUMMARY:Scam Advice Forum Webinar
DESCRIPTION:The Scam Advice Forum Webinar is held on the 4th Thursday of each month from 12:30-1:30 pm EST. \nTo register\, please click here.
URL:https://www.napsa-now.org/calendar/scam-advice-forum-webinar-3-2/2025-03-27/
LOCATION:Virtual
CATEGORIES:Scam Advice Forum
END:VEVENT
BEGIN:VEVENT
DTSTART;TZID=America/New_York:20250327T140000
DTEND;TZID=America/New_York:20250327T150000
DTSTAMP:20260424T111014
CREATED:20250130T171504Z
LAST-MODIFIED:20250130T171504Z
UID:10000297-1743084000-1743087600@www.napsa-now.org
SUMMARY:NAPSA Education Committee Meeting
DESCRIPTION:This meeting is held the 4th Thursday of the month from 2-3 pm EST. \nPlease note: There is no November meeting. The December meeting will be on Dec 11th\, 2025. \nPlease contact admin@napsa-now.org to gain access to the meetings.
URL:https://www.napsa-now.org/calendar/napsa-education-committee-meeting-3/2025-03-27/
LOCATION:Virtual
CATEGORIES:Education & Education Development
END:VEVENT
BEGIN:VEVENT
DTSTART;TZID=America/New_York:20250327T150000
DTEND;TZID=America/New_York:20250327T160000
DTSTAMP:20260424T111014
CREATED:20250130T172728Z
LAST-MODIFIED:20250130T172815Z
UID:10000308-1743087600-1743091200@www.napsa-now.org
SUMMARY:NAPSA Education Development #2 Committee Meeting
DESCRIPTION:This meeting is held the 4th Thursday of the month from 3-4 pm EST. \nPlease note: November & December meetings will be combined for the holidays. \nPlease contact admin@napsa-now.org to gain access to the meetings.
URL:https://www.napsa-now.org/calendar/napsa-education-development-2-committee-meeting/2025-03-27/
LOCATION:Virtual
CATEGORIES:Education Development Committee
END:VEVENT
END:VCALENDAR