BEGIN:VCALENDAR
VERSION:2.0
PRODID:-//NAPSA - ECPv6.15.20//NONSGML v1.0//EN
CALSCALE:GREGORIAN
METHOD:PUBLISH
X-ORIGINAL-URL:https://www.napsa-now.org
X-WR-CALDESC:Events for NAPSA
REFRESH-INTERVAL;VALUE=DURATION:PT1H
X-Robots-Tag:noindex
X-PUBLISHED-TTL:PT1H
BEGIN:VTIMEZONE
TZID:America/New_York
BEGIN:DAYLIGHT
TZOFFSETFROM:-0500
TZOFFSETTO:-0400
TZNAME:EDT
DTSTART:20240310T070000
END:DAYLIGHT
BEGIN:STANDARD
TZOFFSETFROM:-0400
TZOFFSETTO:-0500
TZNAME:EST
DTSTART:20241103T060000
END:STANDARD
BEGIN:DAYLIGHT
TZOFFSETFROM:-0500
TZOFFSETTO:-0400
TZNAME:EDT
DTSTART:20250309T070000
END:DAYLIGHT
BEGIN:STANDARD
TZOFFSETFROM:-0400
TZOFFSETTO:-0500
TZNAME:EST
DTSTART:20251102T060000
END:STANDARD
BEGIN:DAYLIGHT
TZOFFSETFROM:-0500
TZOFFSETTO:-0400
TZNAME:EDT
DTSTART:20260308T070000
END:DAYLIGHT
BEGIN:STANDARD
TZOFFSETFROM:-0400
TZOFFSETTO:-0500
TZNAME:EST
DTSTART:20261101T060000
END:STANDARD
END:VTIMEZONE
BEGIN:VEVENT
DTSTART;TZID=America/New_York:20250107T140000
DTEND;TZID=America/New_York:20250107T153000
DTSTAMP:20260424T122255
CREATED:20250130T210408Z
LAST-MODIFIED:20250130T210408Z
UID:10000404-1736258400-1736263800@www.napsa-now.org
SUMMARY:Regional Rep Advisory Board (RRAB) Meeting
DESCRIPTION:This meeting is held the 1st Tuesday of the month from 2-3:30 pm EST. \nPlease contact admin@napsa-now.org to gain access to the meetings.
URL:https://www.napsa-now.org/calendar/regional-rep-advisory-board-rrab-meeting-4/2025-01-07/
LOCATION:Virtual
CATEGORIES:Regional Rep Advisory Board (RRAB)
END:VEVENT
BEGIN:VEVENT
DTSTART;TZID=America/New_York:20250114T140000
DTEND;TZID=America/New_York:20250114T143000
DTSTAMP:20260424T122255
CREATED:20250130T194749Z
LAST-MODIFIED:20250130T194749Z
UID:10000373-1736863200-1736865000@www.napsa-now.org
SUMMARY:APS Nurses Group
DESCRIPTION:This meeting is held the 2nd Tuesday of every other month from 2-3:30 pm EST. \nPlease contact admin@napsa-now.org to gain access to the meetings.
URL:https://www.napsa-now.org/calendar/aps-nurses-group/2025-01-14/
LOCATION:Virtual
END:VEVENT
BEGIN:VEVENT
DTSTART;TZID=America/New_York:20250115T150000
DTEND;TZID=America/New_York:20250115T163000
DTSTAMP:20260424T122255
CREATED:20250130T165507Z
LAST-MODIFIED:20250130T165507Z
UID:10000246-1736953200-1736958600@www.napsa-now.org
SUMMARY:Research to Practice (R2P) Meeting
DESCRIPTION:This meeting is held the 3rd Wednesday of the month from 3-4:30 pm EST. \nFor more information on R2P meetings\, please visit: https://www.napsa-now.org/r2p-interest-group-and-resource-library/
URL:https://www.napsa-now.org/calendar/research-to-practice-r2p-meeting-2025/2025-01-15/
LOCATION:Virtual
CATEGORIES:Research to Practice
END:VEVENT
BEGIN:VEVENT
DTSTART;TZID=America/New_York:20250116T160000
DTEND;TZID=America/New_York:20250116T170000
DTSTAMP:20260424T122255
CREATED:20250207T144723Z
LAST-MODIFIED:20250207T144723Z
UID:10000438-1737043200-1737046800@www.napsa-now.org
SUMMARY:Southwest Region Meeting
DESCRIPTION:This meeting is held every two months on the 3rd Thursday of the month from 4-5 pm EST. \nPlease contact admin@napsa-now.org to gain access to the meetings.
URL:https://www.napsa-now.org/calendar/southwest-region-meeting/2025-01-16/
LOCATION:Virtual
CATEGORIES:Regional Meeting,Southwest Region
END:VEVENT
BEGIN:VEVENT
DTSTART;TZID=America/New_York:20250117T143000
DTEND;TZID=America/New_York:20250117T153000
DTSTAMP:20260424T122255
CREATED:20250130T212802Z
LAST-MODIFIED:20250130T212802Z
UID:10000416-1737124200-1737127800@www.napsa-now.org
SUMMARY:Public Policy Committee Meeting
DESCRIPTION:This meeting is held the 3rd Friday of the month from 2:30-3:30 pm EST. \nPlease contact admin@napsa-now.org to gain access to the meetings.
URL:https://www.napsa-now.org/calendar/public-policy-committee-meeting-3/2025-01-17/
LOCATION:Virtual
CATEGORIES:Public Policy Committee
END:VEVENT
BEGIN:VEVENT
DTSTART;TZID=America/New_York:20250121T130000
DTEND;TZID=America/New_York:20250121T140000
DTSTAMP:20260424T122255
CREATED:20250130T170527Z
LAST-MODIFIED:20250130T170527Z
UID:10000270-1737464400-1737468000@www.napsa-now.org
SUMMARY:NAPSA Development Committee Meeting
DESCRIPTION:This meeting is held the 3rd Tuesday of the month from 1-2 pm EST. \nPlease contact admin@napsa-now.org to gain access to the meetings.
URL:https://www.napsa-now.org/calendar/napsa-development-committee-meeting-2/2025-01-21/
LOCATION:Virtual
CATEGORIES:Development Committee
END:VEVENT
BEGIN:VEVENT
DTSTART;TZID=America/New_York:20250123T123000
DTEND;TZID=America/New_York:20250123T133000
DTSTAMP:20260424T122255
CREATED:20250130T170739Z
LAST-MODIFIED:20250130T170739Z
UID:10000283-1737635400-1737639000@www.napsa-now.org
SUMMARY:Scam Advice Forum Webinar
DESCRIPTION:The Scam Advice Forum Webinar is held on the 4th Thursday of each month from 12:30-1:30 pm EST. \nTo register\, please click here.
URL:https://www.napsa-now.org/calendar/scam-advice-forum-webinar-3-2/2025-01-23/
LOCATION:Virtual
CATEGORIES:Scam Advice Forum
END:VEVENT
BEGIN:VEVENT
DTSTART;TZID=America/New_York:20250123T140000
DTEND;TZID=America/New_York:20250123T150000
DTSTAMP:20260424T122255
CREATED:20250130T171504Z
LAST-MODIFIED:20250130T171504Z
UID:10000295-1737640800-1737644400@www.napsa-now.org
SUMMARY:NAPSA Education Committee Meeting
DESCRIPTION:This meeting is held the 4th Thursday of the month from 2-3 pm EST. \nPlease note: There is no November meeting. The December meeting will be on Dec 11th\, 2025. \nPlease contact admin@napsa-now.org to gain access to the meetings.
URL:https://www.napsa-now.org/calendar/napsa-education-committee-meeting-3/2025-01-23/
LOCATION:Virtual
CATEGORIES:Education & Education Development
END:VEVENT
BEGIN:VEVENT
DTSTART;TZID=America/New_York:20250123T150000
DTEND;TZID=America/New_York:20250123T160000
DTSTAMP:20260424T122255
CREATED:20250130T172728Z
LAST-MODIFIED:20250130T172815Z
UID:10000306-1737644400-1737648000@www.napsa-now.org
SUMMARY:NAPSA Education Development #2 Committee Meeting
DESCRIPTION:This meeting is held the 4th Thursday of the month from 3-4 pm EST. \nPlease note: November & December meetings will be combined for the holidays. \nPlease contact admin@napsa-now.org to gain access to the meetings.
URL:https://www.napsa-now.org/calendar/napsa-education-development-2-committee-meeting/2025-01-23/
LOCATION:Virtual
CATEGORIES:Education Development Committee
END:VEVENT
END:VCALENDAR