BEGIN:VCALENDAR
VERSION:2.0
PRODID:-//NAPSA - ECPv6.15.20//NONSGML v1.0//EN
CALSCALE:GREGORIAN
METHOD:PUBLISH
X-WR-CALNAME:NAPSA
X-ORIGINAL-URL:https://www.napsa-now.org
X-WR-CALDESC:Events for NAPSA
REFRESH-INTERVAL;VALUE=DURATION:PT1H
X-Robots-Tag:noindex
X-PUBLISHED-TTL:PT1H
BEGIN:VTIMEZONE
TZID:America/New_York
BEGIN:DAYLIGHT
TZOFFSETFROM:-0500
TZOFFSETTO:-0400
TZNAME:EDT
DTSTART:20230312T070000
END:DAYLIGHT
BEGIN:STANDARD
TZOFFSETFROM:-0400
TZOFFSETTO:-0500
TZNAME:EST
DTSTART:20231105T060000
END:STANDARD
BEGIN:DAYLIGHT
TZOFFSETFROM:-0500
TZOFFSETTO:-0400
TZNAME:EDT
DTSTART:20240310T070000
END:DAYLIGHT
BEGIN:STANDARD
TZOFFSETFROM:-0400
TZOFFSETTO:-0500
TZNAME:EST
DTSTART:20241103T060000
END:STANDARD
BEGIN:DAYLIGHT
TZOFFSETFROM:-0500
TZOFFSETTO:-0400
TZNAME:EDT
DTSTART:20250309T070000
END:DAYLIGHT
BEGIN:STANDARD
TZOFFSETFROM:-0400
TZOFFSETTO:-0500
TZNAME:EST
DTSTART:20251102T060000
END:STANDARD
END:VTIMEZONE
BEGIN:VEVENT
DTSTART;TZID=America/New_York:20241105T140000
DTEND;TZID=America/New_York:20241105T163000
DTSTAMP:20260425T222626
CREATED:20240219T171718Z
LAST-MODIFIED:20240219T171718Z
UID:10000167-1730815200-1730824200@www.napsa-now.org
SUMMARY:Regional Rep Advisory Board (RRAB) Meeting
DESCRIPTION:This meeting is held every month on the 1st Tuesday from 2-3:30 pm EST. \nPlease contact admin@napsa-now.org to gain access to the meetings.
URL:https://www.napsa-now.org/calendar/regional-rep-advisory-board-rrab-meeting-3/2024-11-05/
LOCATION:Virtual
CATEGORIES:Regional Rep Advisory Board (RRAB)
END:VEVENT
BEGIN:VEVENT
DTSTART;TZID=America/New_York:20241106T140000
DTEND;TZID=America/New_York:20241106T153000
DTSTAMP:20260425T222626
CREATED:20240219T171406Z
LAST-MODIFIED:20240607T153144Z
UID:10000155-1730901600-1730907000@www.napsa-now.org
SUMMARY:Diversity\, Equity\, & Inclusion (DEI) Committee Meeting
DESCRIPTION:This meeting is held the 1st Wednesday of the month from 2-3:30 pm EST. \nPlease contact admin@napsa-now.org to gain access to the meetings.
URL:https://www.napsa-now.org/calendar/diversity-equity-inclusion-dei-committee-meeting-3/2024-11-06/
LOCATION:Virtual
CATEGORIES:DEI Committee
END:VEVENT
BEGIN:VEVENT
DTSTART;TZID=America/New_York:20241112T140000
DTEND;TZID=America/New_York:20241112T153000
DTSTAMP:20260425T222626
CREATED:20240221T151559Z
LAST-MODIFIED:20240221T151611Z
UID:10000196-1731420000-1731425400@www.napsa-now.org
SUMMARY:APS Nurse Group Meeting
DESCRIPTION:This meeting is held every two months on the 2nd Tuesday from 2-3:30 pm EST. \nPlease contact admin@napsa-now.org to gain access to the meetings.
URL:https://www.napsa-now.org/calendar/aps-nurse-group-meeting-4/2024-11-12/
LOCATION:Virtual
CATEGORIES:APS Nurse Group
END:VEVENT
BEGIN:VEVENT
DTSTART;TZID=America/New_York:20241115T143000
DTEND;TZID=America/New_York:20241115T153000
DTSTAMP:20260425T222626
CREATED:20240219T172104Z
LAST-MODIFIED:20240219T172104Z
UID:10000179-1731681000-1731684600@www.napsa-now.org
SUMMARY:Public Policy Committee Meeting
DESCRIPTION:This meeting is held every month on the 3rd Friday from 2:30-3:30 pm EST. \nPlease contact admin@napsa-now.org to gain access to the meetings.
URL:https://www.napsa-now.org/calendar/public-policy-committee-meeting-2/2024-11-15/
LOCATION:Virtual
CATEGORIES:Public Policy Committee
END:VEVENT
BEGIN:VEVENT
DTSTART;TZID=America/New_York:20241119T130000
DTEND;TZID=America/New_York:20241119T140000
DTSTAMP:20260425T222626
CREATED:20240306T182059Z
LAST-MODIFIED:20240306T182059Z
UID:10000215-1732021200-1732024800@www.napsa-now.org
SUMMARY:Development Committee Meeting
DESCRIPTION:This meeting is held the 3rd Tuesday of the month from 1-2 pm EST. \nPlease contact admin@napsa-now.org to gain access to the meetings.
URL:https://www.napsa-now.org/calendar/development-committee-meeting/2024-11-19/
LOCATION:Virtual
CATEGORIES:Development Committee
END:VEVENT
BEGIN:VEVENT
DTSTART;TZID=America/New_York:20241120T150000
DTEND;TZID=America/New_York:20241120T163000
DTSTAMP:20260425T222626
CREATED:20240219T164902Z
LAST-MODIFIED:20240219T164902Z
UID:10000075-1732114800-1732120200@www.napsa-now.org
SUMMARY:Research to Practice (R2P) Meeting
DESCRIPTION:This meeting is held the 3rd Wednesday of the month from 3-4:30 pm EST. \nFor more information on R2P meetings\, please visit: https://www.napsa-now.org/r2p-interest-group-and-resource-library/
URL:https://www.napsa-now.org/calendar/research-to-practice-r2p-meeting/2024-11-20/
LOCATION:Virtual
CATEGORIES:Research to Practice
END:VEVENT
BEGIN:VEVENT
DTSTART;TZID=America/New_York:20241121T150000
DTEND;TZID=America/New_York:20241121T160000
DTSTAMP:20260425T222626
CREATED:20240306T184005Z
LAST-MODIFIED:20240306T184005Z
UID:10000219-1732201200-1732204800@www.napsa-now.org
SUMMARY:Southwest Regional Meeting
DESCRIPTION:This meeting is held every other month on the 3rd Thursday* 3-4 pm EST/1-2 pm MST/12-1 pm PST. \nPlease contact admin@napsa-now.org to gain access to the meetings. \n*The September meeting will be rescheduled due to conflicting with the Annual National Conference.
URL:https://www.napsa-now.org/calendar/southwest-regional-meeting/2024-11-21/
LOCATION:Virtual
CATEGORIES:Regional Meeting
END:VEVENT
BEGIN:VEVENT
DTSTART;TZID=America/New_York:20241121T170000
DTEND;TZID=America/New_York:20241121T183000
DTSTAMP:20260425T222626
CREATED:20240221T152725Z
LAST-MODIFIED:20240221T152725Z
UID:10000208-1732208400-1732213800@www.napsa-now.org
SUMMARY:NAPSA West I & II Region Meeting
DESCRIPTION:This meeting is held on the 3rd Thursday every two months from 5-6:30 pm EST/2-3:30 pm PST. \nPlease contact admin@napsa-now.org to gain access to the meetings.
URL:https://www.napsa-now.org/calendar/napsa-west-i-ii-region-meeting/2024-11-21/
LOCATION:Virtual
CATEGORIES:Regional Meeting
END:VEVENT
BEGIN:VEVENT
DTSTART;TZID=America/New_York:20241128T123000
DTEND;TZID=America/New_York:20241128T133000
DTSTAMP:20260425T222626
CREATED:20240219T165638Z
LAST-MODIFIED:20240401T144142Z
UID:10000143-1732797000-1732800600@www.napsa-now.org
SUMMARY:Scam Advice Forum Webinar
DESCRIPTION:The Scam Advice Forum Webinar is held on the 4th Thursday of each month from 12:30-1:30 pm EST. \nTo register\, please click here.
URL:https://www.napsa-now.org/calendar/scam-advice-forum-webinar-2/2024-11-28/
LOCATION:Virtual
CATEGORIES:Scam Advice Forum
END:VEVENT
BEGIN:VEVENT
DTSTART;TZID=America/New_York:20241128T140000
DTEND;TZID=America/New_York:20241128T150000
DTSTAMP:20260425T222626
CREATED:20240219T170604Z
LAST-MODIFIED:20240219T170604Z
UID:10000120-1732802400-1732806000@www.napsa-now.org
SUMMARY:NAPSA Education Committee Meeting
DESCRIPTION:This meeting is held the 4th Thursday of the month from 2-3 pm EST. \nPlease contact admin@napsa-now.org to gain access to the meetings.
URL:https://www.napsa-now.org/calendar/napsa-education-committee-meeting-2/2024-11-28/
LOCATION:Virtual
CATEGORIES:Education & Education Development
END:VEVENT
END:VCALENDAR