BEGIN:VCALENDAR
VERSION:2.0
PRODID:-//NAPSA - ECPv6.15.20//NONSGML v1.0//EN
CALSCALE:GREGORIAN
METHOD:PUBLISH
X-ORIGINAL-URL:https://www.napsa-now.org
X-WR-CALDESC:Events for NAPSA
REFRESH-INTERVAL;VALUE=DURATION:PT1H
X-Robots-Tag:noindex
X-PUBLISHED-TTL:PT1H
BEGIN:VTIMEZONE
TZID:America/New_York
BEGIN:DAYLIGHT
TZOFFSETFROM:-0500
TZOFFSETTO:-0400
TZNAME:EDT
DTSTART:20290311T070000
END:DAYLIGHT
BEGIN:STANDARD
TZOFFSETFROM:-0400
TZOFFSETTO:-0500
TZNAME:EST
DTSTART:20291104T060000
END:STANDARD
BEGIN:DAYLIGHT
TZOFFSETFROM:-0500
TZOFFSETTO:-0400
TZNAME:EDT
DTSTART:20300310T070000
END:DAYLIGHT
BEGIN:STANDARD
TZOFFSETFROM:-0400
TZOFFSETTO:-0500
TZNAME:EST
DTSTART:20301103T060000
END:STANDARD
BEGIN:DAYLIGHT
TZOFFSETFROM:-0500
TZOFFSETTO:-0400
TZNAME:EDT
DTSTART:20310309T070000
END:DAYLIGHT
BEGIN:STANDARD
TZOFFSETFROM:-0400
TZOFFSETTO:-0500
TZNAME:EST
DTSTART:20311102T060000
END:STANDARD
BEGIN:DAYLIGHT
TZOFFSETFROM:-0500
TZOFFSETTO:-0400
TZNAME:EDT
DTSTART:20320314T070000
END:DAYLIGHT
BEGIN:STANDARD
TZOFFSETFROM:-0400
TZOFFSETTO:-0500
TZNAME:EST
DTSTART:20321107T060000
END:STANDARD
END:VTIMEZONE
BEGIN:VEVENT
DTSTART;TZID=America/New_York:20300809T160000
DTEND;TZID=America/New_York:20300809T170000
DTSTAMP:20260423T050826
CREATED:20260417T130221Z
LAST-MODIFIED:20260417T130221Z
UID:10000796-1912521600-1912525200@www.napsa-now.org
SUMMARY:Friday National Policy Meeting
DESCRIPTION:This meeting is held every Friday from 4-5 pm EST. \nThis meeting is invite only.
URL:https://www.napsa-now.org/calendar/friday-national-policy-meeting/2030-08-09/
LOCATION:Virtual
END:VEVENT
BEGIN:VEVENT
DTSTART;TZID=America/New_York:20300816T160000
DTEND;TZID=America/New_York:20300816T170000
DTSTAMP:20260423T050826
CREATED:20260417T130221Z
LAST-MODIFIED:20260417T130221Z
UID:10000797-1913126400-1913130000@www.napsa-now.org
SUMMARY:Friday National Policy Meeting
DESCRIPTION:This meeting is held every Friday from 4-5 pm EST. \nThis meeting is invite only.
URL:https://www.napsa-now.org/calendar/friday-national-policy-meeting/2030-08-16/
LOCATION:Virtual
END:VEVENT
BEGIN:VEVENT
DTSTART;TZID=America/New_York:20300823T160000
DTEND;TZID=America/New_York:20300823T170000
DTSTAMP:20260423T050826
CREATED:20260417T130221Z
LAST-MODIFIED:20260417T130221Z
UID:10000798-1913731200-1913734800@www.napsa-now.org
SUMMARY:Friday National Policy Meeting
DESCRIPTION:This meeting is held every Friday from 4-5 pm EST. \nThis meeting is invite only.
URL:https://www.napsa-now.org/calendar/friday-national-policy-meeting/2030-08-23/
LOCATION:Virtual
END:VEVENT
BEGIN:VEVENT
DTSTART;TZID=America/New_York:20300830T160000
DTEND;TZID=America/New_York:20300830T170000
DTSTAMP:20260423T050826
CREATED:20260417T130221Z
LAST-MODIFIED:20260417T130221Z
UID:10000799-1914336000-1914339600@www.napsa-now.org
SUMMARY:Friday National Policy Meeting
DESCRIPTION:This meeting is held every Friday from 4-5 pm EST. \nThis meeting is invite only.
URL:https://www.napsa-now.org/calendar/friday-national-policy-meeting/2030-08-30/
LOCATION:Virtual
END:VEVENT
BEGIN:VEVENT
DTSTART;TZID=America/New_York:20300903T110000
DTEND;TZID=America/New_York:20300903T123000
DTSTAMP:20260423T050826
CREATED:20260417T155337Z
LAST-MODIFIED:20260417T155457Z
UID:10000938-1914663600-1914669000@www.napsa-now.org
SUMMARY:Ethics Committee Meeting
DESCRIPTION:This meeting is held the 1st Tuesday every 2 months from 11 AM-12:30 PM EST. \nPlease contact admin@napsa-now.org to gain access to the meetings.
URL:https://www.napsa-now.org/calendar/ethics-committee/2030-09-03/
LOCATION:Virtual
CATEGORIES:Ethics Committee
END:VEVENT
BEGIN:VEVENT
DTSTART;TZID=America/New_York:20300906T160000
DTEND;TZID=America/New_York:20300906T170000
DTSTAMP:20260423T050826
CREATED:20260417T130221Z
LAST-MODIFIED:20260417T130221Z
UID:10000800-1914940800-1914944400@www.napsa-now.org
SUMMARY:Friday National Policy Meeting
DESCRIPTION:This meeting is held every Friday from 4-5 pm EST. \nThis meeting is invite only.
URL:https://www.napsa-now.org/calendar/friday-national-policy-meeting/2030-09-06/
LOCATION:Virtual
END:VEVENT
BEGIN:VEVENT
DTSTART;TZID=America/New_York:20300913T160000
DTEND;TZID=America/New_York:20300913T170000
DTSTAMP:20260423T050826
CREATED:20260417T130221Z
LAST-MODIFIED:20260417T130221Z
UID:10000801-1915545600-1915549200@www.napsa-now.org
SUMMARY:Friday National Policy Meeting
DESCRIPTION:This meeting is held every Friday from 4-5 pm EST. \nThis meeting is invite only.
URL:https://www.napsa-now.org/calendar/friday-national-policy-meeting/2030-09-13/
LOCATION:Virtual
END:VEVENT
BEGIN:VEVENT
DTSTART;TZID=America/New_York:20300920T160000
DTEND;TZID=America/New_York:20300920T170000
DTSTAMP:20260423T050826
CREATED:20260417T130221Z
LAST-MODIFIED:20260417T130221Z
UID:10000802-1916150400-1916154000@www.napsa-now.org
SUMMARY:Friday National Policy Meeting
DESCRIPTION:This meeting is held every Friday from 4-5 pm EST. \nThis meeting is invite only.
URL:https://www.napsa-now.org/calendar/friday-national-policy-meeting/2030-09-20/
LOCATION:Virtual
END:VEVENT
BEGIN:VEVENT
DTSTART;TZID=America/New_York:20300927T160000
DTEND;TZID=America/New_York:20300927T170000
DTSTAMP:20260423T050826
CREATED:20260417T130221Z
LAST-MODIFIED:20260417T130221Z
UID:10000803-1916755200-1916758800@www.napsa-now.org
SUMMARY:Friday National Policy Meeting
DESCRIPTION:This meeting is held every Friday from 4-5 pm EST. \nThis meeting is invite only.
URL:https://www.napsa-now.org/calendar/friday-national-policy-meeting/2030-09-27/
LOCATION:Virtual
END:VEVENT
BEGIN:VEVENT
DTSTART;TZID=America/New_York:20301004T160000
DTEND;TZID=America/New_York:20301004T170000
DTSTAMP:20260423T050826
CREATED:20260417T130221Z
LAST-MODIFIED:20260417T130221Z
UID:10000804-1917360000-1917363600@www.napsa-now.org
SUMMARY:Friday National Policy Meeting
DESCRIPTION:This meeting is held every Friday from 4-5 pm EST. \nThis meeting is invite only.
URL:https://www.napsa-now.org/calendar/friday-national-policy-meeting/2030-10-04/
LOCATION:Virtual
END:VEVENT
BEGIN:VEVENT
DTSTART;TZID=America/New_York:20301011T160000
DTEND;TZID=America/New_York:20301011T170000
DTSTAMP:20260423T050826
CREATED:20260417T130221Z
LAST-MODIFIED:20260417T130221Z
UID:10000805-1917964800-1917968400@www.napsa-now.org
SUMMARY:Friday National Policy Meeting
DESCRIPTION:This meeting is held every Friday from 4-5 pm EST. \nThis meeting is invite only.
URL:https://www.napsa-now.org/calendar/friday-national-policy-meeting/2030-10-11/
LOCATION:Virtual
END:VEVENT
BEGIN:VEVENT
DTSTART;TZID=America/New_York:20301018T160000
DTEND;TZID=America/New_York:20301018T170000
DTSTAMP:20260423T050826
CREATED:20260417T130221Z
LAST-MODIFIED:20260417T130221Z
UID:10000806-1918569600-1918573200@www.napsa-now.org
SUMMARY:Friday National Policy Meeting
DESCRIPTION:This meeting is held every Friday from 4-5 pm EST. \nThis meeting is invite only.
URL:https://www.napsa-now.org/calendar/friday-national-policy-meeting/2030-10-18/
LOCATION:Virtual
END:VEVENT
BEGIN:VEVENT
DTSTART;TZID=America/New_York:20301025T160000
DTEND;TZID=America/New_York:20301025T170000
DTSTAMP:20260423T050826
CREATED:20260417T130221Z
LAST-MODIFIED:20260417T130221Z
UID:10000807-1919174400-1919178000@www.napsa-now.org
SUMMARY:Friday National Policy Meeting
DESCRIPTION:This meeting is held every Friday from 4-5 pm EST. \nThis meeting is invite only.
URL:https://www.napsa-now.org/calendar/friday-national-policy-meeting/2030-10-25/
LOCATION:Virtual
END:VEVENT
BEGIN:VEVENT
DTSTART;TZID=America/New_York:20301101T160000
DTEND;TZID=America/New_York:20301101T170000
DTSTAMP:20260423T050826
CREATED:20260417T130221Z
LAST-MODIFIED:20260417T130221Z
UID:10000808-1919779200-1919782800@www.napsa-now.org
SUMMARY:Friday National Policy Meeting
DESCRIPTION:This meeting is held every Friday from 4-5 pm EST. \nThis meeting is invite only.
URL:https://www.napsa-now.org/calendar/friday-national-policy-meeting/2030-11-01/
LOCATION:Virtual
END:VEVENT
BEGIN:VEVENT
DTSTART;TZID=America/New_York:20301105T110000
DTEND;TZID=America/New_York:20301105T123000
DTSTAMP:20260423T050826
CREATED:20260417T155337Z
LAST-MODIFIED:20260417T155457Z
UID:10000939-1920106800-1920112200@www.napsa-now.org
SUMMARY:Ethics Committee Meeting
DESCRIPTION:This meeting is held the 1st Tuesday every 2 months from 11 AM-12:30 PM EST. \nPlease contact admin@napsa-now.org to gain access to the meetings.
URL:https://www.napsa-now.org/calendar/ethics-committee/2030-11-05/
LOCATION:Virtual
CATEGORIES:Ethics Committee
END:VEVENT
BEGIN:VEVENT
DTSTART;TZID=America/New_York:20301108T160000
DTEND;TZID=America/New_York:20301108T170000
DTSTAMP:20260423T050826
CREATED:20260417T130221Z
LAST-MODIFIED:20260417T130221Z
UID:10000809-1920384000-1920387600@www.napsa-now.org
SUMMARY:Friday National Policy Meeting
DESCRIPTION:This meeting is held every Friday from 4-5 pm EST. \nThis meeting is invite only.
URL:https://www.napsa-now.org/calendar/friday-national-policy-meeting/2030-11-08/
LOCATION:Virtual
END:VEVENT
BEGIN:VEVENT
DTSTART;TZID=America/New_York:20301115T160000
DTEND;TZID=America/New_York:20301115T170000
DTSTAMP:20260423T050826
CREATED:20260417T130221Z
LAST-MODIFIED:20260417T130221Z
UID:10000810-1920988800-1920992400@www.napsa-now.org
SUMMARY:Friday National Policy Meeting
DESCRIPTION:This meeting is held every Friday from 4-5 pm EST. \nThis meeting is invite only.
URL:https://www.napsa-now.org/calendar/friday-national-policy-meeting/2030-11-15/
LOCATION:Virtual
END:VEVENT
BEGIN:VEVENT
DTSTART;TZID=America/New_York:20301122T160000
DTEND;TZID=America/New_York:20301122T170000
DTSTAMP:20260423T050826
CREATED:20260417T130221Z
LAST-MODIFIED:20260417T130221Z
UID:10000811-1921593600-1921597200@www.napsa-now.org
SUMMARY:Friday National Policy Meeting
DESCRIPTION:This meeting is held every Friday from 4-5 pm EST. \nThis meeting is invite only.
URL:https://www.napsa-now.org/calendar/friday-national-policy-meeting/2030-11-22/
LOCATION:Virtual
END:VEVENT
BEGIN:VEVENT
DTSTART;TZID=America/New_York:20301129T160000
DTEND;TZID=America/New_York:20301129T170000
DTSTAMP:20260423T050826
CREATED:20260417T130221Z
LAST-MODIFIED:20260417T130221Z
UID:10000812-1922198400-1922202000@www.napsa-now.org
SUMMARY:Friday National Policy Meeting
DESCRIPTION:This meeting is held every Friday from 4-5 pm EST. \nThis meeting is invite only.
URL:https://www.napsa-now.org/calendar/friday-national-policy-meeting/2030-11-29/
LOCATION:Virtual
END:VEVENT
BEGIN:VEVENT
DTSTART;TZID=America/New_York:20301206T160000
DTEND;TZID=America/New_York:20301206T170000
DTSTAMP:20260423T050826
CREATED:20260417T130221Z
LAST-MODIFIED:20260417T130221Z
UID:10000813-1922803200-1922806800@www.napsa-now.org
SUMMARY:Friday National Policy Meeting
DESCRIPTION:This meeting is held every Friday from 4-5 pm EST. \nThis meeting is invite only.
URL:https://www.napsa-now.org/calendar/friday-national-policy-meeting/2030-12-06/
LOCATION:Virtual
END:VEVENT
BEGIN:VEVENT
DTSTART;TZID=America/New_York:20301213T160000
DTEND;TZID=America/New_York:20301213T170000
DTSTAMP:20260423T050826
CREATED:20260417T130221Z
LAST-MODIFIED:20260417T130221Z
UID:10000814-1923408000-1923411600@www.napsa-now.org
SUMMARY:Friday National Policy Meeting
DESCRIPTION:This meeting is held every Friday from 4-5 pm EST. \nThis meeting is invite only.
URL:https://www.napsa-now.org/calendar/friday-national-policy-meeting/2030-12-13/
LOCATION:Virtual
END:VEVENT
BEGIN:VEVENT
DTSTART;TZID=America/New_York:20301220T160000
DTEND;TZID=America/New_York:20301220T170000
DTSTAMP:20260423T050826
CREATED:20260417T130221Z
LAST-MODIFIED:20260417T130221Z
UID:10000815-1924012800-1924016400@www.napsa-now.org
SUMMARY:Friday National Policy Meeting
DESCRIPTION:This meeting is held every Friday from 4-5 pm EST. \nThis meeting is invite only.
URL:https://www.napsa-now.org/calendar/friday-national-policy-meeting/2030-12-20/
LOCATION:Virtual
END:VEVENT
BEGIN:VEVENT
DTSTART;TZID=America/New_York:20301227T160000
DTEND;TZID=America/New_York:20301227T170000
DTSTAMP:20260423T050826
CREATED:20260417T130221Z
LAST-MODIFIED:20260417T130221Z
UID:10000816-1924617600-1924621200@www.napsa-now.org
SUMMARY:Friday National Policy Meeting
DESCRIPTION:This meeting is held every Friday from 4-5 pm EST. \nThis meeting is invite only.
URL:https://www.napsa-now.org/calendar/friday-national-policy-meeting/2030-12-27/
LOCATION:Virtual
END:VEVENT
BEGIN:VEVENT
DTSTART;TZID=America/New_York:20310103T160000
DTEND;TZID=America/New_York:20310103T170000
DTSTAMP:20260423T050826
CREATED:20260417T130221Z
LAST-MODIFIED:20260417T130221Z
UID:10000817-1925222400-1925226000@www.napsa-now.org
SUMMARY:Friday National Policy Meeting
DESCRIPTION:This meeting is held every Friday from 4-5 pm EST. \nThis meeting is invite only.
URL:https://www.napsa-now.org/calendar/friday-national-policy-meeting/2031-01-03/
LOCATION:Virtual
END:VEVENT
BEGIN:VEVENT
DTSTART;TZID=America/New_York:20310107T110000
DTEND;TZID=America/New_York:20310107T123000
DTSTAMP:20260423T050826
CREATED:20260417T155337Z
LAST-MODIFIED:20260417T155457Z
UID:10000940-1925550000-1925555400@www.napsa-now.org
SUMMARY:Ethics Committee Meeting
DESCRIPTION:This meeting is held the 1st Tuesday every 2 months from 11 AM-12:30 PM EST. \nPlease contact admin@napsa-now.org to gain access to the meetings.
URL:https://www.napsa-now.org/calendar/ethics-committee/2031-01-07/
LOCATION:Virtual
CATEGORIES:Ethics Committee
END:VEVENT
BEGIN:VEVENT
DTSTART;TZID=America/New_York:20310110T160000
DTEND;TZID=America/New_York:20310110T170000
DTSTAMP:20260423T050826
CREATED:20260417T130221Z
LAST-MODIFIED:20260417T130221Z
UID:10000818-1925827200-1925830800@www.napsa-now.org
SUMMARY:Friday National Policy Meeting
DESCRIPTION:This meeting is held every Friday from 4-5 pm EST. \nThis meeting is invite only.
URL:https://www.napsa-now.org/calendar/friday-national-policy-meeting/2031-01-10/
LOCATION:Virtual
END:VEVENT
BEGIN:VEVENT
DTSTART;TZID=America/New_York:20310117T160000
DTEND;TZID=America/New_York:20310117T170000
DTSTAMP:20260423T050826
CREATED:20260417T130221Z
LAST-MODIFIED:20260417T130221Z
UID:10000819-1926432000-1926435600@www.napsa-now.org
SUMMARY:Friday National Policy Meeting
DESCRIPTION:This meeting is held every Friday from 4-5 pm EST. \nThis meeting is invite only.
URL:https://www.napsa-now.org/calendar/friday-national-policy-meeting/2031-01-17/
LOCATION:Virtual
END:VEVENT
BEGIN:VEVENT
DTSTART;TZID=America/New_York:20310124T160000
DTEND;TZID=America/New_York:20310124T170000
DTSTAMP:20260423T050826
CREATED:20260417T130221Z
LAST-MODIFIED:20260417T130221Z
UID:10000820-1927036800-1927040400@www.napsa-now.org
SUMMARY:Friday National Policy Meeting
DESCRIPTION:This meeting is held every Friday from 4-5 pm EST. \nThis meeting is invite only.
URL:https://www.napsa-now.org/calendar/friday-national-policy-meeting/2031-01-24/
LOCATION:Virtual
END:VEVENT
BEGIN:VEVENT
DTSTART;TZID=America/New_York:20310131T160000
DTEND;TZID=America/New_York:20310131T170000
DTSTAMP:20260423T050827
CREATED:20260417T130221Z
LAST-MODIFIED:20260417T130221Z
UID:10000821-1927641600-1927645200@www.napsa-now.org
SUMMARY:Friday National Policy Meeting
DESCRIPTION:This meeting is held every Friday from 4-5 pm EST. \nThis meeting is invite only.
URL:https://www.napsa-now.org/calendar/friday-national-policy-meeting/2031-01-31/
LOCATION:Virtual
END:VEVENT
BEGIN:VEVENT
DTSTART;TZID=America/New_York:20310207T160000
DTEND;TZID=America/New_York:20310207T170000
DTSTAMP:20260423T050827
CREATED:20260417T130221Z
LAST-MODIFIED:20260417T130221Z
UID:10000822-1928246400-1928250000@www.napsa-now.org
SUMMARY:Friday National Policy Meeting
DESCRIPTION:This meeting is held every Friday from 4-5 pm EST. \nThis meeting is invite only.
URL:https://www.napsa-now.org/calendar/friday-national-policy-meeting/2031-02-07/
LOCATION:Virtual
END:VEVENT
END:VCALENDAR