BEGIN:VCALENDAR
VERSION:2.0
PRODID:-//NAPSA - ECPv6.15.20//NONSGML v1.0//EN
CALSCALE:GREGORIAN
METHOD:PUBLISH
X-WR-CALNAME:NAPSA
X-ORIGINAL-URL:https://www.napsa-now.org
X-WR-CALDESC:Events for NAPSA
REFRESH-INTERVAL;VALUE=DURATION:PT1H
X-Robots-Tag:noindex
X-PUBLISHED-TTL:PT1H
BEGIN:VTIMEZONE
TZID:America/New_York
BEGIN:DAYLIGHT
TZOFFSETFROM:-0500
TZOFFSETTO:-0400
TZNAME:EDT
DTSTART:20270314T070000
END:DAYLIGHT
BEGIN:STANDARD
TZOFFSETFROM:-0400
TZOFFSETTO:-0500
TZNAME:EST
DTSTART:20271107T060000
END:STANDARD
BEGIN:DAYLIGHT
TZOFFSETFROM:-0500
TZOFFSETTO:-0400
TZNAME:EDT
DTSTART:20280312T070000
END:DAYLIGHT
BEGIN:STANDARD
TZOFFSETFROM:-0400
TZOFFSETTO:-0500
TZNAME:EST
DTSTART:20281105T060000
END:STANDARD
BEGIN:DAYLIGHT
TZOFFSETFROM:-0500
TZOFFSETTO:-0400
TZNAME:EDT
DTSTART:20290311T070000
END:DAYLIGHT
BEGIN:STANDARD
TZOFFSETFROM:-0400
TZOFFSETTO:-0500
TZNAME:EST
DTSTART:20291104T060000
END:STANDARD
END:VTIMEZONE
BEGIN:VEVENT
DTSTART;TZID=America/New_York:20280502T110000
DTEND;TZID=America/New_York:20280502T123000
DTSTAMP:20260419T231253
CREATED:20260303T162632Z
LAST-MODIFIED:20260303T162948Z
UID:10000468-1840878000-1840883400@www.napsa-now.org
SUMMARY:Ethics Committee
DESCRIPTION:This meeting is held the 2nd Tuesday of every other month from 11-12:30 pm EST. Must be a NAPSA Member. Please contact admin@napsa-now.org to gain access to the meetings.
URL:https://www.napsa-now.org/calendar/ethics-committee-2026/2028-05-02/
CATEGORIES:Ethics Committee
END:VEVENT
BEGIN:VEVENT
DTSTART;TZID=America/New_York:20280502T110000
DTEND;TZID=America/New_York:20280502T123000
DTSTAMP:20260419T231253
CREATED:20260417T155337Z
LAST-MODIFIED:20260417T155457Z
UID:10000924-1840878000-1840883400@www.napsa-now.org
SUMMARY:Ethics Committee Meeting
DESCRIPTION:This meeting is held the 1st Tuesday every 2 months from 11 AM-12:30 PM EST. \nPlease contact admin@napsa-now.org to gain access to the meetings.
URL:https://www.napsa-now.org/calendar/ethics-committee/2028-05-02/
LOCATION:Virtual
CATEGORIES:Ethics Committee
END:VEVENT
BEGIN:VEVENT
DTSTART;TZID=America/New_York:20280505T160000
DTEND;TZID=America/New_York:20280505T170000
DTSTAMP:20260419T231253
CREATED:20260417T130221Z
LAST-MODIFIED:20260417T130221Z
UID:10000678-1841155200-1841158800@www.napsa-now.org
SUMMARY:Friday National Policy Meeting
DESCRIPTION:This meeting is held every Friday from 4-5 pm EST. \nThis meeting is invite only.
URL:https://www.napsa-now.org/calendar/friday-national-policy-meeting/2028-05-05/
LOCATION:Virtual
END:VEVENT
BEGIN:VEVENT
DTSTART;TZID=America/New_York:20280509T140000
DTEND;TZID=America/New_York:20280509T143000
DTSTAMP:20260419T231253
CREATED:20250130T194749Z
LAST-MODIFIED:20250130T194749Z
UID:10000393-1841493600-1841495400@www.napsa-now.org
SUMMARY:APS Nurses Group
DESCRIPTION:This meeting is held the 2nd Tuesday of every other month from 2-3:30 pm EST. \nPlease contact admin@napsa-now.org to gain access to the meetings.
URL:https://www.napsa-now.org/calendar/aps-nurses-group/2028-05-09/
LOCATION:Virtual
END:VEVENT
BEGIN:VEVENT
DTSTART;TZID=America/New_York:20280512T160000
DTEND;TZID=America/New_York:20280512T170000
DTSTAMP:20260419T231253
CREATED:20260417T130221Z
LAST-MODIFIED:20260417T130221Z
UID:10000679-1841760000-1841763600@www.napsa-now.org
SUMMARY:Friday National Policy Meeting
DESCRIPTION:This meeting is held every Friday from 4-5 pm EST. \nThis meeting is invite only.
URL:https://www.napsa-now.org/calendar/friday-national-policy-meeting/2028-05-12/
LOCATION:Virtual
END:VEVENT
BEGIN:VEVENT
DTSTART;TZID=America/New_York:20280519T160000
DTEND;TZID=America/New_York:20280519T170000
DTSTAMP:20260419T231253
CREATED:20260417T130221Z
LAST-MODIFIED:20260417T130221Z
UID:10000680-1842364800-1842368400@www.napsa-now.org
SUMMARY:Friday National Policy Meeting
DESCRIPTION:This meeting is held every Friday from 4-5 pm EST. \nThis meeting is invite only.
URL:https://www.napsa-now.org/calendar/friday-national-policy-meeting/2028-05-19/
LOCATION:Virtual
END:VEVENT
BEGIN:VEVENT
DTSTART;TZID=America/New_York:20280526T160000
DTEND;TZID=America/New_York:20280526T170000
DTSTAMP:20260419T231253
CREATED:20260417T130221Z
LAST-MODIFIED:20260417T130221Z
UID:10000681-1842969600-1842973200@www.napsa-now.org
SUMMARY:Friday National Policy Meeting
DESCRIPTION:This meeting is held every Friday from 4-5 pm EST. \nThis meeting is invite only.
URL:https://www.napsa-now.org/calendar/friday-national-policy-meeting/2028-05-26/
LOCATION:Virtual
END:VEVENT
BEGIN:VEVENT
DTSTART;TZID=America/New_York:20280602T160000
DTEND;TZID=America/New_York:20280602T170000
DTSTAMP:20260419T231253
CREATED:20260417T130221Z
LAST-MODIFIED:20260417T130221Z
UID:10000682-1843574400-1843578000@www.napsa-now.org
SUMMARY:Friday National Policy Meeting
DESCRIPTION:This meeting is held every Friday from 4-5 pm EST. \nThis meeting is invite only.
URL:https://www.napsa-now.org/calendar/friday-national-policy-meeting/2028-06-02/
LOCATION:Virtual
END:VEVENT
BEGIN:VEVENT
DTSTART;TZID=America/New_York:20280609T160000
DTEND;TZID=America/New_York:20280609T170000
DTSTAMP:20260419T231253
CREATED:20260417T130221Z
LAST-MODIFIED:20260417T130221Z
UID:10000683-1844179200-1844182800@www.napsa-now.org
SUMMARY:Friday National Policy Meeting
DESCRIPTION:This meeting is held every Friday from 4-5 pm EST. \nThis meeting is invite only.
URL:https://www.napsa-now.org/calendar/friday-national-policy-meeting/2028-06-09/
LOCATION:Virtual
END:VEVENT
BEGIN:VEVENT
DTSTART;TZID=America/New_York:20280616T160000
DTEND;TZID=America/New_York:20280616T170000
DTSTAMP:20260419T231253
CREATED:20260417T130221Z
LAST-MODIFIED:20260417T130221Z
UID:10000684-1844784000-1844787600@www.napsa-now.org
SUMMARY:Friday National Policy Meeting
DESCRIPTION:This meeting is held every Friday from 4-5 pm EST. \nThis meeting is invite only.
URL:https://www.napsa-now.org/calendar/friday-national-policy-meeting/2028-06-16/
LOCATION:Virtual
END:VEVENT
BEGIN:VEVENT
DTSTART;TZID=America/New_York:20280623T160000
DTEND;TZID=America/New_York:20280623T170000
DTSTAMP:20260419T231253
CREATED:20260417T130221Z
LAST-MODIFIED:20260417T130221Z
UID:10000685-1845388800-1845392400@www.napsa-now.org
SUMMARY:Friday National Policy Meeting
DESCRIPTION:This meeting is held every Friday from 4-5 pm EST. \nThis meeting is invite only.
URL:https://www.napsa-now.org/calendar/friday-national-policy-meeting/2028-06-23/
LOCATION:Virtual
END:VEVENT
BEGIN:VEVENT
DTSTART;TZID=America/New_York:20280630T160000
DTEND;TZID=America/New_York:20280630T170000
DTSTAMP:20260419T231253
CREATED:20260417T130221Z
LAST-MODIFIED:20260417T130221Z
UID:10000686-1845993600-1845997200@www.napsa-now.org
SUMMARY:Friday National Policy Meeting
DESCRIPTION:This meeting is held every Friday from 4-5 pm EST. \nThis meeting is invite only.
URL:https://www.napsa-now.org/calendar/friday-national-policy-meeting/2028-06-30/
LOCATION:Virtual
END:VEVENT
BEGIN:VEVENT
DTSTART;TZID=America/New_York:20280704T110000
DTEND;TZID=America/New_York:20280704T123000
DTSTAMP:20260419T231253
CREATED:20260303T162632Z
LAST-MODIFIED:20260303T162948Z
UID:10000469-1846321200-1846326600@www.napsa-now.org
SUMMARY:Ethics Committee
DESCRIPTION:This meeting is held the 2nd Tuesday of every other month from 11-12:30 pm EST. Must be a NAPSA Member. Please contact admin@napsa-now.org to gain access to the meetings.
URL:https://www.napsa-now.org/calendar/ethics-committee-2026/2028-07-04/
CATEGORIES:Ethics Committee
END:VEVENT
BEGIN:VEVENT
DTSTART;TZID=America/New_York:20280704T110000
DTEND;TZID=America/New_York:20280704T123000
DTSTAMP:20260419T231253
CREATED:20260417T155337Z
LAST-MODIFIED:20260417T155457Z
UID:10000925-1846321200-1846326600@www.napsa-now.org
SUMMARY:Ethics Committee Meeting
DESCRIPTION:This meeting is held the 1st Tuesday every 2 months from 11 AM-12:30 PM EST. \nPlease contact admin@napsa-now.org to gain access to the meetings.
URL:https://www.napsa-now.org/calendar/ethics-committee/2028-07-04/
LOCATION:Virtual
CATEGORIES:Ethics Committee
END:VEVENT
BEGIN:VEVENT
DTSTART;TZID=America/New_York:20280707T160000
DTEND;TZID=America/New_York:20280707T170000
DTSTAMP:20260419T231253
CREATED:20260417T130221Z
LAST-MODIFIED:20260417T130221Z
UID:10000687-1846598400-1846602000@www.napsa-now.org
SUMMARY:Friday National Policy Meeting
DESCRIPTION:This meeting is held every Friday from 4-5 pm EST. \nThis meeting is invite only.
URL:https://www.napsa-now.org/calendar/friday-national-policy-meeting/2028-07-07/
LOCATION:Virtual
END:VEVENT
BEGIN:VEVENT
DTSTART;TZID=America/New_York:20280711T140000
DTEND;TZID=America/New_York:20280711T143000
DTSTAMP:20260419T231253
CREATED:20250130T194749Z
LAST-MODIFIED:20250130T194749Z
UID:10000394-1846936800-1846938600@www.napsa-now.org
SUMMARY:APS Nurses Group
DESCRIPTION:This meeting is held the 2nd Tuesday of every other month from 2-3:30 pm EST. \nPlease contact admin@napsa-now.org to gain access to the meetings.
URL:https://www.napsa-now.org/calendar/aps-nurses-group/2028-07-11/
LOCATION:Virtual
END:VEVENT
BEGIN:VEVENT
DTSTART;TZID=America/New_York:20280714T160000
DTEND;TZID=America/New_York:20280714T170000
DTSTAMP:20260419T231253
CREATED:20260417T130221Z
LAST-MODIFIED:20260417T130221Z
UID:10000688-1847203200-1847206800@www.napsa-now.org
SUMMARY:Friday National Policy Meeting
DESCRIPTION:This meeting is held every Friday from 4-5 pm EST. \nThis meeting is invite only.
URL:https://www.napsa-now.org/calendar/friday-national-policy-meeting/2028-07-14/
LOCATION:Virtual
END:VEVENT
BEGIN:VEVENT
DTSTART;TZID=America/New_York:20280721T160000
DTEND;TZID=America/New_York:20280721T170000
DTSTAMP:20260419T231253
CREATED:20260417T130221Z
LAST-MODIFIED:20260417T130221Z
UID:10000689-1847808000-1847811600@www.napsa-now.org
SUMMARY:Friday National Policy Meeting
DESCRIPTION:This meeting is held every Friday from 4-5 pm EST. \nThis meeting is invite only.
URL:https://www.napsa-now.org/calendar/friday-national-policy-meeting/2028-07-21/
LOCATION:Virtual
END:VEVENT
BEGIN:VEVENT
DTSTART;TZID=America/New_York:20280728T160000
DTEND;TZID=America/New_York:20280728T170000
DTSTAMP:20260419T231253
CREATED:20260417T130221Z
LAST-MODIFIED:20260417T130221Z
UID:10000690-1848412800-1848416400@www.napsa-now.org
SUMMARY:Friday National Policy Meeting
DESCRIPTION:This meeting is held every Friday from 4-5 pm EST. \nThis meeting is invite only.
URL:https://www.napsa-now.org/calendar/friday-national-policy-meeting/2028-07-28/
LOCATION:Virtual
END:VEVENT
BEGIN:VEVENT
DTSTART;TZID=America/New_York:20280804T160000
DTEND;TZID=America/New_York:20280804T170000
DTSTAMP:20260419T231253
CREATED:20260417T130221Z
LAST-MODIFIED:20260417T130221Z
UID:10000691-1849017600-1849021200@www.napsa-now.org
SUMMARY:Friday National Policy Meeting
DESCRIPTION:This meeting is held every Friday from 4-5 pm EST. \nThis meeting is invite only.
URL:https://www.napsa-now.org/calendar/friday-national-policy-meeting/2028-08-04/
LOCATION:Virtual
END:VEVENT
BEGIN:VEVENT
DTSTART;TZID=America/New_York:20280811T160000
DTEND;TZID=America/New_York:20280811T170000
DTSTAMP:20260419T231253
CREATED:20260417T130221Z
LAST-MODIFIED:20260417T130221Z
UID:10000692-1849622400-1849626000@www.napsa-now.org
SUMMARY:Friday National Policy Meeting
DESCRIPTION:This meeting is held every Friday from 4-5 pm EST. \nThis meeting is invite only.
URL:https://www.napsa-now.org/calendar/friday-national-policy-meeting/2028-08-11/
LOCATION:Virtual
END:VEVENT
BEGIN:VEVENT
DTSTART;TZID=America/New_York:20280818T160000
DTEND;TZID=America/New_York:20280818T170000
DTSTAMP:20260419T231253
CREATED:20260417T130221Z
LAST-MODIFIED:20260417T130221Z
UID:10000693-1850227200-1850230800@www.napsa-now.org
SUMMARY:Friday National Policy Meeting
DESCRIPTION:This meeting is held every Friday from 4-5 pm EST. \nThis meeting is invite only.
URL:https://www.napsa-now.org/calendar/friday-national-policy-meeting/2028-08-18/
LOCATION:Virtual
END:VEVENT
BEGIN:VEVENT
DTSTART;TZID=America/New_York:20280825T160000
DTEND;TZID=America/New_York:20280825T170000
DTSTAMP:20260419T231253
CREATED:20260417T130221Z
LAST-MODIFIED:20260417T130221Z
UID:10000694-1850832000-1850835600@www.napsa-now.org
SUMMARY:Friday National Policy Meeting
DESCRIPTION:This meeting is held every Friday from 4-5 pm EST. \nThis meeting is invite only.
URL:https://www.napsa-now.org/calendar/friday-national-policy-meeting/2028-08-25/
LOCATION:Virtual
END:VEVENT
BEGIN:VEVENT
DTSTART;TZID=America/New_York:20280901T160000
DTEND;TZID=America/New_York:20280901T170000
DTSTAMP:20260419T231253
CREATED:20260417T130221Z
LAST-MODIFIED:20260417T130221Z
UID:10000695-1851436800-1851440400@www.napsa-now.org
SUMMARY:Friday National Policy Meeting
DESCRIPTION:This meeting is held every Friday from 4-5 pm EST. \nThis meeting is invite only.
URL:https://www.napsa-now.org/calendar/friday-national-policy-meeting/2028-09-01/
LOCATION:Virtual
END:VEVENT
BEGIN:VEVENT
DTSTART;TZID=America/New_York:20280905T110000
DTEND;TZID=America/New_York:20280905T123000
DTSTAMP:20260419T231253
CREATED:20260303T162632Z
LAST-MODIFIED:20260303T162948Z
UID:10000470-1851764400-1851769800@www.napsa-now.org
SUMMARY:Ethics Committee
DESCRIPTION:This meeting is held the 2nd Tuesday of every other month from 11-12:30 pm EST. Must be a NAPSA Member. Please contact admin@napsa-now.org to gain access to the meetings.
URL:https://www.napsa-now.org/calendar/ethics-committee-2026/2028-09-05/
CATEGORIES:Ethics Committee
END:VEVENT
BEGIN:VEVENT
DTSTART;TZID=America/New_York:20280905T110000
DTEND;TZID=America/New_York:20280905T123000
DTSTAMP:20260419T231253
CREATED:20260417T155337Z
LAST-MODIFIED:20260417T155457Z
UID:10000926-1851764400-1851769800@www.napsa-now.org
SUMMARY:Ethics Committee Meeting
DESCRIPTION:This meeting is held the 1st Tuesday every 2 months from 11 AM-12:30 PM EST. \nPlease contact admin@napsa-now.org to gain access to the meetings.
URL:https://www.napsa-now.org/calendar/ethics-committee/2028-09-05/
LOCATION:Virtual
CATEGORIES:Ethics Committee
END:VEVENT
BEGIN:VEVENT
DTSTART;TZID=America/New_York:20280908T160000
DTEND;TZID=America/New_York:20280908T170000
DTSTAMP:20260419T231253
CREATED:20260417T130221Z
LAST-MODIFIED:20260417T130221Z
UID:10000696-1852041600-1852045200@www.napsa-now.org
SUMMARY:Friday National Policy Meeting
DESCRIPTION:This meeting is held every Friday from 4-5 pm EST. \nThis meeting is invite only.
URL:https://www.napsa-now.org/calendar/friday-national-policy-meeting/2028-09-08/
LOCATION:Virtual
END:VEVENT
BEGIN:VEVENT
DTSTART;TZID=America/New_York:20280912T140000
DTEND;TZID=America/New_York:20280912T143000
DTSTAMP:20260419T231253
CREATED:20250130T194749Z
LAST-MODIFIED:20250130T194749Z
UID:10000395-1852380000-1852381800@www.napsa-now.org
SUMMARY:APS Nurses Group
DESCRIPTION:This meeting is held the 2nd Tuesday of every other month from 2-3:30 pm EST. \nPlease contact admin@napsa-now.org to gain access to the meetings.
URL:https://www.napsa-now.org/calendar/aps-nurses-group/2028-09-12/
LOCATION:Virtual
END:VEVENT
BEGIN:VEVENT
DTSTART;TZID=America/New_York:20280915T160000
DTEND;TZID=America/New_York:20280915T170000
DTSTAMP:20260419T231253
CREATED:20260417T130221Z
LAST-MODIFIED:20260417T130221Z
UID:10000697-1852646400-1852650000@www.napsa-now.org
SUMMARY:Friday National Policy Meeting
DESCRIPTION:This meeting is held every Friday from 4-5 pm EST. \nThis meeting is invite only.
URL:https://www.napsa-now.org/calendar/friday-national-policy-meeting/2028-09-15/
LOCATION:Virtual
END:VEVENT
BEGIN:VEVENT
DTSTART;TZID=America/New_York:20280922T160000
DTEND;TZID=America/New_York:20280922T170000
DTSTAMP:20260419T231253
CREATED:20260417T130221Z
LAST-MODIFIED:20260417T130221Z
UID:10000698-1853251200-1853254800@www.napsa-now.org
SUMMARY:Friday National Policy Meeting
DESCRIPTION:This meeting is held every Friday from 4-5 pm EST. \nThis meeting is invite only.
URL:https://www.napsa-now.org/calendar/friday-national-policy-meeting/2028-09-22/
LOCATION:Virtual
END:VEVENT
END:VCALENDAR