BEGIN:VCALENDAR
VERSION:2.0
PRODID:-//NAPSA - ECPv6.15.20//NONSGML v1.0//EN
CALSCALE:GREGORIAN
METHOD:PUBLISH
X-ORIGINAL-URL:https://www.napsa-now.org
X-WR-CALDESC:Events for NAPSA
REFRESH-INTERVAL;VALUE=DURATION:PT1H
X-Robots-Tag:noindex
X-PUBLISHED-TTL:PT1H
BEGIN:VTIMEZONE
TZID:America/New_York
BEGIN:DAYLIGHT
TZOFFSETFROM:-0500
TZOFFSETTO:-0400
TZNAME:EDT
DTSTART:20280312T070000
END:DAYLIGHT
BEGIN:STANDARD
TZOFFSETFROM:-0400
TZOFFSETTO:-0500
TZNAME:EST
DTSTART:20281105T060000
END:STANDARD
BEGIN:DAYLIGHT
TZOFFSETFROM:-0500
TZOFFSETTO:-0400
TZNAME:EDT
DTSTART:20290311T070000
END:DAYLIGHT
BEGIN:STANDARD
TZOFFSETFROM:-0400
TZOFFSETTO:-0500
TZNAME:EST
DTSTART:20291104T060000
END:STANDARD
BEGIN:DAYLIGHT
TZOFFSETFROM:-0500
TZOFFSETTO:-0400
TZNAME:EDT
DTSTART:20300310T070000
END:DAYLIGHT
BEGIN:STANDARD
TZOFFSETFROM:-0400
TZOFFSETTO:-0500
TZNAME:EST
DTSTART:20301103T060000
END:STANDARD
END:VTIMEZONE
BEGIN:VEVENT
DTSTART;TZID=America/New_York:20290608T160000
DTEND;TZID=America/New_York:20290608T170000
DTSTAMP:20260422T182845
CREATED:20260417T130221Z
LAST-MODIFIED:20260417T130221Z
UID:10000735-1875628800-1875632400@www.napsa-now.org
SUMMARY:Friday National Policy Meeting
DESCRIPTION:This meeting is held every Friday from 4-5 pm EST. \nThis meeting is invite only.
URL:https://www.napsa-now.org/calendar/friday-national-policy-meeting/2029-06-08/
LOCATION:Virtual
END:VEVENT
BEGIN:VEVENT
DTSTART;TZID=America/New_York:20290615T160000
DTEND;TZID=America/New_York:20290615T170000
DTSTAMP:20260422T182845
CREATED:20260417T130221Z
LAST-MODIFIED:20260417T130221Z
UID:10000736-1876233600-1876237200@www.napsa-now.org
SUMMARY:Friday National Policy Meeting
DESCRIPTION:This meeting is held every Friday from 4-5 pm EST. \nThis meeting is invite only.
URL:https://www.napsa-now.org/calendar/friday-national-policy-meeting/2029-06-15/
LOCATION:Virtual
END:VEVENT
BEGIN:VEVENT
DTSTART;TZID=America/New_York:20290622T160000
DTEND;TZID=America/New_York:20290622T170000
DTSTAMP:20260422T182845
CREATED:20260417T130221Z
LAST-MODIFIED:20260417T130221Z
UID:10000737-1876838400-1876842000@www.napsa-now.org
SUMMARY:Friday National Policy Meeting
DESCRIPTION:This meeting is held every Friday from 4-5 pm EST. \nThis meeting is invite only.
URL:https://www.napsa-now.org/calendar/friday-national-policy-meeting/2029-06-22/
LOCATION:Virtual
END:VEVENT
BEGIN:VEVENT
DTSTART;TZID=America/New_York:20290629T160000
DTEND;TZID=America/New_York:20290629T170000
DTSTAMP:20260422T182845
CREATED:20260417T130221Z
LAST-MODIFIED:20260417T130221Z
UID:10000738-1877443200-1877446800@www.napsa-now.org
SUMMARY:Friday National Policy Meeting
DESCRIPTION:This meeting is held every Friday from 4-5 pm EST. \nThis meeting is invite only.
URL:https://www.napsa-now.org/calendar/friday-national-policy-meeting/2029-06-29/
LOCATION:Virtual
END:VEVENT
BEGIN:VEVENT
DTSTART;TZID=America/New_York:20290703T110000
DTEND;TZID=America/New_York:20290703T123000
DTSTAMP:20260422T182845
CREATED:20260417T155337Z
LAST-MODIFIED:20260417T155457Z
UID:10000931-1877770800-1877776200@www.napsa-now.org
SUMMARY:Ethics Committee Meeting
DESCRIPTION:This meeting is held the 1st Tuesday every 2 months from 11 AM-12:30 PM EST. \nPlease contact admin@napsa-now.org to gain access to the meetings.
URL:https://www.napsa-now.org/calendar/ethics-committee/2029-07-03/
LOCATION:Virtual
CATEGORIES:Ethics Committee
END:VEVENT
BEGIN:VEVENT
DTSTART;TZID=America/New_York:20290706T160000
DTEND;TZID=America/New_York:20290706T170000
DTSTAMP:20260422T182845
CREATED:20260417T130221Z
LAST-MODIFIED:20260417T130221Z
UID:10000739-1878048000-1878051600@www.napsa-now.org
SUMMARY:Friday National Policy Meeting
DESCRIPTION:This meeting is held every Friday from 4-5 pm EST. \nThis meeting is invite only.
URL:https://www.napsa-now.org/calendar/friday-national-policy-meeting/2029-07-06/
LOCATION:Virtual
END:VEVENT
BEGIN:VEVENT
DTSTART;TZID=America/New_York:20290710T140000
DTEND;TZID=America/New_York:20290710T143000
DTSTAMP:20260422T182845
CREATED:20250130T194749Z
LAST-MODIFIED:20250130T194749Z
UID:10000400-1878386400-1878388200@www.napsa-now.org
SUMMARY:APS Nurses Group
DESCRIPTION:This meeting is held the 2nd Tuesday of every other month from 2-3:30 pm EST. \nPlease contact admin@napsa-now.org to gain access to the meetings.
URL:https://www.napsa-now.org/calendar/aps-nurses-group/2029-07-10/
LOCATION:Virtual
END:VEVENT
BEGIN:VEVENT
DTSTART;TZID=America/New_York:20290713T160000
DTEND;TZID=America/New_York:20290713T170000
DTSTAMP:20260422T182845
CREATED:20260417T130221Z
LAST-MODIFIED:20260417T130221Z
UID:10000740-1878652800-1878656400@www.napsa-now.org
SUMMARY:Friday National Policy Meeting
DESCRIPTION:This meeting is held every Friday from 4-5 pm EST. \nThis meeting is invite only.
URL:https://www.napsa-now.org/calendar/friday-national-policy-meeting/2029-07-13/
LOCATION:Virtual
END:VEVENT
BEGIN:VEVENT
DTSTART;TZID=America/New_York:20290720T160000
DTEND;TZID=America/New_York:20290720T170000
DTSTAMP:20260422T182845
CREATED:20260417T130221Z
LAST-MODIFIED:20260417T130221Z
UID:10000741-1879257600-1879261200@www.napsa-now.org
SUMMARY:Friday National Policy Meeting
DESCRIPTION:This meeting is held every Friday from 4-5 pm EST. \nThis meeting is invite only.
URL:https://www.napsa-now.org/calendar/friday-national-policy-meeting/2029-07-20/
LOCATION:Virtual
END:VEVENT
BEGIN:VEVENT
DTSTART;TZID=America/New_York:20290727T160000
DTEND;TZID=America/New_York:20290727T170000
DTSTAMP:20260422T182845
CREATED:20260417T130221Z
LAST-MODIFIED:20260417T130221Z
UID:10000742-1879862400-1879866000@www.napsa-now.org
SUMMARY:Friday National Policy Meeting
DESCRIPTION:This meeting is held every Friday from 4-5 pm EST. \nThis meeting is invite only.
URL:https://www.napsa-now.org/calendar/friday-national-policy-meeting/2029-07-27/
LOCATION:Virtual
END:VEVENT
BEGIN:VEVENT
DTSTART;TZID=America/New_York:20290803T160000
DTEND;TZID=America/New_York:20290803T170000
DTSTAMP:20260422T182845
CREATED:20260417T130221Z
LAST-MODIFIED:20260417T130221Z
UID:10000743-1880467200-1880470800@www.napsa-now.org
SUMMARY:Friday National Policy Meeting
DESCRIPTION:This meeting is held every Friday from 4-5 pm EST. \nThis meeting is invite only.
URL:https://www.napsa-now.org/calendar/friday-national-policy-meeting/2029-08-03/
LOCATION:Virtual
END:VEVENT
BEGIN:VEVENT
DTSTART;TZID=America/New_York:20290810T160000
DTEND;TZID=America/New_York:20290810T170000
DTSTAMP:20260422T182845
CREATED:20260417T130221Z
LAST-MODIFIED:20260417T130221Z
UID:10000744-1881072000-1881075600@www.napsa-now.org
SUMMARY:Friday National Policy Meeting
DESCRIPTION:This meeting is held every Friday from 4-5 pm EST. \nThis meeting is invite only.
URL:https://www.napsa-now.org/calendar/friday-national-policy-meeting/2029-08-10/
LOCATION:Virtual
END:VEVENT
BEGIN:VEVENT
DTSTART;TZID=America/New_York:20290817T160000
DTEND;TZID=America/New_York:20290817T170000
DTSTAMP:20260422T182845
CREATED:20260417T130221Z
LAST-MODIFIED:20260417T130221Z
UID:10000745-1881676800-1881680400@www.napsa-now.org
SUMMARY:Friday National Policy Meeting
DESCRIPTION:This meeting is held every Friday from 4-5 pm EST. \nThis meeting is invite only.
URL:https://www.napsa-now.org/calendar/friday-national-policy-meeting/2029-08-17/
LOCATION:Virtual
END:VEVENT
BEGIN:VEVENT
DTSTART;TZID=America/New_York:20290824T160000
DTEND;TZID=America/New_York:20290824T170000
DTSTAMP:20260422T182845
CREATED:20260417T130221Z
LAST-MODIFIED:20260417T130221Z
UID:10000746-1882281600-1882285200@www.napsa-now.org
SUMMARY:Friday National Policy Meeting
DESCRIPTION:This meeting is held every Friday from 4-5 pm EST. \nThis meeting is invite only.
URL:https://www.napsa-now.org/calendar/friday-national-policy-meeting/2029-08-24/
LOCATION:Virtual
END:VEVENT
BEGIN:VEVENT
DTSTART;TZID=America/New_York:20290831T160000
DTEND;TZID=America/New_York:20290831T170000
DTSTAMP:20260422T182845
CREATED:20260417T130221Z
LAST-MODIFIED:20260417T130221Z
UID:10000747-1882886400-1882890000@www.napsa-now.org
SUMMARY:Friday National Policy Meeting
DESCRIPTION:This meeting is held every Friday from 4-5 pm EST. \nThis meeting is invite only.
URL:https://www.napsa-now.org/calendar/friday-national-policy-meeting/2029-08-31/
LOCATION:Virtual
END:VEVENT
BEGIN:VEVENT
DTSTART;TZID=America/New_York:20290904T110000
DTEND;TZID=America/New_York:20290904T123000
DTSTAMP:20260422T182845
CREATED:20260417T155337Z
LAST-MODIFIED:20260417T155457Z
UID:10000932-1883214000-1883219400@www.napsa-now.org
SUMMARY:Ethics Committee Meeting
DESCRIPTION:This meeting is held the 1st Tuesday every 2 months from 11 AM-12:30 PM EST. \nPlease contact admin@napsa-now.org to gain access to the meetings.
URL:https://www.napsa-now.org/calendar/ethics-committee/2029-09-04/
LOCATION:Virtual
CATEGORIES:Ethics Committee
END:VEVENT
BEGIN:VEVENT
DTSTART;TZID=America/New_York:20290907T160000
DTEND;TZID=America/New_York:20290907T170000
DTSTAMP:20260422T182845
CREATED:20260417T130221Z
LAST-MODIFIED:20260417T130221Z
UID:10000748-1883491200-1883494800@www.napsa-now.org
SUMMARY:Friday National Policy Meeting
DESCRIPTION:This meeting is held every Friday from 4-5 pm EST. \nThis meeting is invite only.
URL:https://www.napsa-now.org/calendar/friday-national-policy-meeting/2029-09-07/
LOCATION:Virtual
END:VEVENT
BEGIN:VEVENT
DTSTART;TZID=America/New_York:20290911T140000
DTEND;TZID=America/New_York:20290911T143000
DTSTAMP:20260422T182845
CREATED:20250130T194749Z
LAST-MODIFIED:20250130T194749Z
UID:10000401-1883829600-1883831400@www.napsa-now.org
SUMMARY:APS Nurses Group
DESCRIPTION:This meeting is held the 2nd Tuesday of every other month from 2-3:30 pm EST. \nPlease contact admin@napsa-now.org to gain access to the meetings.
URL:https://www.napsa-now.org/calendar/aps-nurses-group/2029-09-11/
LOCATION:Virtual
END:VEVENT
BEGIN:VEVENT
DTSTART;TZID=America/New_York:20290914T160000
DTEND;TZID=America/New_York:20290914T170000
DTSTAMP:20260422T182845
CREATED:20260417T130221Z
LAST-MODIFIED:20260417T130221Z
UID:10000749-1884096000-1884099600@www.napsa-now.org
SUMMARY:Friday National Policy Meeting
DESCRIPTION:This meeting is held every Friday from 4-5 pm EST. \nThis meeting is invite only.
URL:https://www.napsa-now.org/calendar/friday-national-policy-meeting/2029-09-14/
LOCATION:Virtual
END:VEVENT
BEGIN:VEVENT
DTSTART;TZID=America/New_York:20290921T160000
DTEND;TZID=America/New_York:20290921T170000
DTSTAMP:20260422T182845
CREATED:20260417T130221Z
LAST-MODIFIED:20260417T130221Z
UID:10000750-1884700800-1884704400@www.napsa-now.org
SUMMARY:Friday National Policy Meeting
DESCRIPTION:This meeting is held every Friday from 4-5 pm EST. \nThis meeting is invite only.
URL:https://www.napsa-now.org/calendar/friday-national-policy-meeting/2029-09-21/
LOCATION:Virtual
END:VEVENT
BEGIN:VEVENT
DTSTART;TZID=America/New_York:20290928T160000
DTEND;TZID=America/New_York:20290928T170000
DTSTAMP:20260422T182845
CREATED:20260417T130221Z
LAST-MODIFIED:20260417T130221Z
UID:10000751-1885305600-1885309200@www.napsa-now.org
SUMMARY:Friday National Policy Meeting
DESCRIPTION:This meeting is held every Friday from 4-5 pm EST. \nThis meeting is invite only.
URL:https://www.napsa-now.org/calendar/friday-national-policy-meeting/2029-09-28/
LOCATION:Virtual
END:VEVENT
BEGIN:VEVENT
DTSTART;TZID=America/New_York:20291005T160000
DTEND;TZID=America/New_York:20291005T170000
DTSTAMP:20260422T182845
CREATED:20260417T130221Z
LAST-MODIFIED:20260417T130221Z
UID:10000752-1885910400-1885914000@www.napsa-now.org
SUMMARY:Friday National Policy Meeting
DESCRIPTION:This meeting is held every Friday from 4-5 pm EST. \nThis meeting is invite only.
URL:https://www.napsa-now.org/calendar/friday-national-policy-meeting/2029-10-05/
LOCATION:Virtual
END:VEVENT
BEGIN:VEVENT
DTSTART;TZID=America/New_York:20291012T160000
DTEND;TZID=America/New_York:20291012T170000
DTSTAMP:20260422T182845
CREATED:20260417T130221Z
LAST-MODIFIED:20260417T130221Z
UID:10000753-1886515200-1886518800@www.napsa-now.org
SUMMARY:Friday National Policy Meeting
DESCRIPTION:This meeting is held every Friday from 4-5 pm EST. \nThis meeting is invite only.
URL:https://www.napsa-now.org/calendar/friday-national-policy-meeting/2029-10-12/
LOCATION:Virtual
END:VEVENT
BEGIN:VEVENT
DTSTART;TZID=America/New_York:20291019T160000
DTEND;TZID=America/New_York:20291019T170000
DTSTAMP:20260422T182845
CREATED:20260417T130221Z
LAST-MODIFIED:20260417T130221Z
UID:10000754-1887120000-1887123600@www.napsa-now.org
SUMMARY:Friday National Policy Meeting
DESCRIPTION:This meeting is held every Friday from 4-5 pm EST. \nThis meeting is invite only.
URL:https://www.napsa-now.org/calendar/friday-national-policy-meeting/2029-10-19/
LOCATION:Virtual
END:VEVENT
BEGIN:VEVENT
DTSTART;TZID=America/New_York:20291026T160000
DTEND;TZID=America/New_York:20291026T170000
DTSTAMP:20260422T182845
CREATED:20260417T130221Z
LAST-MODIFIED:20260417T130221Z
UID:10000755-1887724800-1887728400@www.napsa-now.org
SUMMARY:Friday National Policy Meeting
DESCRIPTION:This meeting is held every Friday from 4-5 pm EST. \nThis meeting is invite only.
URL:https://www.napsa-now.org/calendar/friday-national-policy-meeting/2029-10-26/
LOCATION:Virtual
END:VEVENT
BEGIN:VEVENT
DTSTART;TZID=America/New_York:20291102T160000
DTEND;TZID=America/New_York:20291102T170000
DTSTAMP:20260422T182845
CREATED:20260417T130221Z
LAST-MODIFIED:20260417T130221Z
UID:10000756-1888329600-1888333200@www.napsa-now.org
SUMMARY:Friday National Policy Meeting
DESCRIPTION:This meeting is held every Friday from 4-5 pm EST. \nThis meeting is invite only.
URL:https://www.napsa-now.org/calendar/friday-national-policy-meeting/2029-11-02/
LOCATION:Virtual
END:VEVENT
BEGIN:VEVENT
DTSTART;TZID=America/New_York:20291106T110000
DTEND;TZID=America/New_York:20291106T123000
DTSTAMP:20260422T182845
CREATED:20260417T155337Z
LAST-MODIFIED:20260417T155457Z
UID:10000933-1888657200-1888662600@www.napsa-now.org
SUMMARY:Ethics Committee Meeting
DESCRIPTION:This meeting is held the 1st Tuesday every 2 months from 11 AM-12:30 PM EST. \nPlease contact admin@napsa-now.org to gain access to the meetings.
URL:https://www.napsa-now.org/calendar/ethics-committee/2029-11-06/
LOCATION:Virtual
CATEGORIES:Ethics Committee
END:VEVENT
BEGIN:VEVENT
DTSTART;TZID=America/New_York:20291109T160000
DTEND;TZID=America/New_York:20291109T170000
DTSTAMP:20260422T182845
CREATED:20260417T130221Z
LAST-MODIFIED:20260417T130221Z
UID:10000757-1888934400-1888938000@www.napsa-now.org
SUMMARY:Friday National Policy Meeting
DESCRIPTION:This meeting is held every Friday from 4-5 pm EST. \nThis meeting is invite only.
URL:https://www.napsa-now.org/calendar/friday-national-policy-meeting/2029-11-09/
LOCATION:Virtual
END:VEVENT
BEGIN:VEVENT
DTSTART;TZID=America/New_York:20291113T140000
DTEND;TZID=America/New_York:20291113T143000
DTSTAMP:20260422T182845
CREATED:20250130T194749Z
LAST-MODIFIED:20250130T194749Z
UID:10000402-1889272800-1889274600@www.napsa-now.org
SUMMARY:APS Nurses Group
DESCRIPTION:This meeting is held the 2nd Tuesday of every other month from 2-3:30 pm EST. \nPlease contact admin@napsa-now.org to gain access to the meetings.
URL:https://www.napsa-now.org/calendar/aps-nurses-group/2029-11-13/
LOCATION:Virtual
END:VEVENT
BEGIN:VEVENT
DTSTART;TZID=America/New_York:20291116T160000
DTEND;TZID=America/New_York:20291116T170000
DTSTAMP:20260422T182845
CREATED:20260417T130221Z
LAST-MODIFIED:20260417T130221Z
UID:10000758-1889539200-1889542800@www.napsa-now.org
SUMMARY:Friday National Policy Meeting
DESCRIPTION:This meeting is held every Friday from 4-5 pm EST. \nThis meeting is invite only.
URL:https://www.napsa-now.org/calendar/friday-national-policy-meeting/2029-11-16/
LOCATION:Virtual
END:VEVENT
END:VCALENDAR