BEGIN:VCALENDAR
VERSION:2.0
PRODID:-//NAPSA - ECPv6.15.20//NONSGML v1.0//EN
CALSCALE:GREGORIAN
METHOD:PUBLISH
X-ORIGINAL-URL:https://www.napsa-now.org
X-WR-CALDESC:Events for NAPSA
REFRESH-INTERVAL;VALUE=DURATION:PT1H
X-Robots-Tag:noindex
X-PUBLISHED-TTL:PT1H
BEGIN:VTIMEZONE
TZID:America/New_York
BEGIN:DAYLIGHT
TZOFFSETFROM:-0500
TZOFFSETTO:-0400
TZNAME:EDT
DTSTART:20270314T070000
END:DAYLIGHT
BEGIN:STANDARD
TZOFFSETFROM:-0400
TZOFFSETTO:-0500
TZNAME:EST
DTSTART:20271107T060000
END:STANDARD
BEGIN:DAYLIGHT
TZOFFSETFROM:-0500
TZOFFSETTO:-0400
TZNAME:EDT
DTSTART:20280312T070000
END:DAYLIGHT
BEGIN:STANDARD
TZOFFSETFROM:-0400
TZOFFSETTO:-0500
TZNAME:EST
DTSTART:20281105T060000
END:STANDARD
BEGIN:DAYLIGHT
TZOFFSETFROM:-0500
TZOFFSETTO:-0400
TZNAME:EDT
DTSTART:20290311T070000
END:DAYLIGHT
BEGIN:STANDARD
TZOFFSETFROM:-0400
TZOFFSETTO:-0500
TZNAME:EST
DTSTART:20291104T060000
END:STANDARD
BEGIN:DAYLIGHT
TZOFFSETFROM:-0500
TZOFFSETTO:-0400
TZNAME:EDT
DTSTART:20300310T070000
END:DAYLIGHT
BEGIN:STANDARD
TZOFFSETFROM:-0400
TZOFFSETTO:-0500
TZNAME:EST
DTSTART:20301103T060000
END:STANDARD
END:VTIMEZONE
BEGIN:VEVENT
DTSTART;TZID=America/New_York:20281006T160000
DTEND;TZID=America/New_York:20281006T170000
DTSTAMP:20260420T234016
CREATED:20260417T130221Z
LAST-MODIFIED:20260417T130221Z
UID:10000700-1854460800-1854464400@www.napsa-now.org
SUMMARY:Friday National Policy Meeting
DESCRIPTION:This meeting is held every Friday from 4-5 pm EST. \nThis meeting is invite only.
URL:https://www.napsa-now.org/calendar/friday-national-policy-meeting/2028-10-06/
LOCATION:Virtual
END:VEVENT
BEGIN:VEVENT
DTSTART;TZID=America/New_York:20281013T160000
DTEND;TZID=America/New_York:20281013T170000
DTSTAMP:20260420T234016
CREATED:20260417T130221Z
LAST-MODIFIED:20260417T130221Z
UID:10000701-1855065600-1855069200@www.napsa-now.org
SUMMARY:Friday National Policy Meeting
DESCRIPTION:This meeting is held every Friday from 4-5 pm EST. \nThis meeting is invite only.
URL:https://www.napsa-now.org/calendar/friday-national-policy-meeting/2028-10-13/
LOCATION:Virtual
END:VEVENT
BEGIN:VEVENT
DTSTART;TZID=America/New_York:20281020T160000
DTEND;TZID=America/New_York:20281020T170000
DTSTAMP:20260420T234016
CREATED:20260417T130221Z
LAST-MODIFIED:20260417T130221Z
UID:10000702-1855670400-1855674000@www.napsa-now.org
SUMMARY:Friday National Policy Meeting
DESCRIPTION:This meeting is held every Friday from 4-5 pm EST. \nThis meeting is invite only.
URL:https://www.napsa-now.org/calendar/friday-national-policy-meeting/2028-10-20/
LOCATION:Virtual
END:VEVENT
BEGIN:VEVENT
DTSTART;TZID=America/New_York:20281027T160000
DTEND;TZID=America/New_York:20281027T170000
DTSTAMP:20260420T234016
CREATED:20260417T130221Z
LAST-MODIFIED:20260417T130221Z
UID:10000703-1856275200-1856278800@www.napsa-now.org
SUMMARY:Friday National Policy Meeting
DESCRIPTION:This meeting is held every Friday from 4-5 pm EST. \nThis meeting is invite only.
URL:https://www.napsa-now.org/calendar/friday-national-policy-meeting/2028-10-27/
LOCATION:Virtual
END:VEVENT
BEGIN:VEVENT
DTSTART;TZID=America/New_York:20281103T160000
DTEND;TZID=America/New_York:20281103T170000
DTSTAMP:20260420T234016
CREATED:20260417T130221Z
LAST-MODIFIED:20260417T130221Z
UID:10000704-1856880000-1856883600@www.napsa-now.org
SUMMARY:Friday National Policy Meeting
DESCRIPTION:This meeting is held every Friday from 4-5 pm EST. \nThis meeting is invite only.
URL:https://www.napsa-now.org/calendar/friday-national-policy-meeting/2028-11-03/
LOCATION:Virtual
END:VEVENT
BEGIN:VEVENT
DTSTART;TZID=America/New_York:20281107T110000
DTEND;TZID=America/New_York:20281107T123000
DTSTAMP:20260420T234016
CREATED:20260303T162632Z
LAST-MODIFIED:20260303T162948Z
UID:10000471-1857207600-1857213000@www.napsa-now.org
SUMMARY:Ethics Committee
DESCRIPTION:This meeting is held the 2nd Tuesday of every other month from 11-12:30 pm EST. Must be a NAPSA Member. Please contact admin@napsa-now.org to gain access to the meetings.
URL:https://www.napsa-now.org/calendar/ethics-committee-2026/2028-11-07/
CATEGORIES:Ethics Committee
END:VEVENT
BEGIN:VEVENT
DTSTART;TZID=America/New_York:20281107T110000
DTEND;TZID=America/New_York:20281107T123000
DTSTAMP:20260420T234016
CREATED:20260417T155337Z
LAST-MODIFIED:20260417T155457Z
UID:10000927-1857207600-1857213000@www.napsa-now.org
SUMMARY:Ethics Committee Meeting
DESCRIPTION:This meeting is held the 1st Tuesday every 2 months from 11 AM-12:30 PM EST. \nPlease contact admin@napsa-now.org to gain access to the meetings.
URL:https://www.napsa-now.org/calendar/ethics-committee/2028-11-07/
LOCATION:Virtual
CATEGORIES:Ethics Committee
END:VEVENT
BEGIN:VEVENT
DTSTART;TZID=America/New_York:20281110T160000
DTEND;TZID=America/New_York:20281110T170000
DTSTAMP:20260420T234016
CREATED:20260417T130221Z
LAST-MODIFIED:20260417T130221Z
UID:10000705-1857484800-1857488400@www.napsa-now.org
SUMMARY:Friday National Policy Meeting
DESCRIPTION:This meeting is held every Friday from 4-5 pm EST. \nThis meeting is invite only.
URL:https://www.napsa-now.org/calendar/friday-national-policy-meeting/2028-11-10/
LOCATION:Virtual
END:VEVENT
BEGIN:VEVENT
DTSTART;TZID=America/New_York:20281114T140000
DTEND;TZID=America/New_York:20281114T143000
DTSTAMP:20260420T234016
CREATED:20250130T194749Z
LAST-MODIFIED:20250130T194749Z
UID:10000396-1857823200-1857825000@www.napsa-now.org
SUMMARY:APS Nurses Group
DESCRIPTION:This meeting is held the 2nd Tuesday of every other month from 2-3:30 pm EST. \nPlease contact admin@napsa-now.org to gain access to the meetings.
URL:https://www.napsa-now.org/calendar/aps-nurses-group/2028-11-14/
LOCATION:Virtual
END:VEVENT
BEGIN:VEVENT
DTSTART;TZID=America/New_York:20281117T160000
DTEND;TZID=America/New_York:20281117T170000
DTSTAMP:20260420T234016
CREATED:20260417T130221Z
LAST-MODIFIED:20260417T130221Z
UID:10000706-1858089600-1858093200@www.napsa-now.org
SUMMARY:Friday National Policy Meeting
DESCRIPTION:This meeting is held every Friday from 4-5 pm EST. \nThis meeting is invite only.
URL:https://www.napsa-now.org/calendar/friday-national-policy-meeting/2028-11-17/
LOCATION:Virtual
END:VEVENT
BEGIN:VEVENT
DTSTART;TZID=America/New_York:20281124T160000
DTEND;TZID=America/New_York:20281124T170000
DTSTAMP:20260420T234016
CREATED:20260417T130221Z
LAST-MODIFIED:20260417T130221Z
UID:10000707-1858694400-1858698000@www.napsa-now.org
SUMMARY:Friday National Policy Meeting
DESCRIPTION:This meeting is held every Friday from 4-5 pm EST. \nThis meeting is invite only.
URL:https://www.napsa-now.org/calendar/friday-national-policy-meeting/2028-11-24/
LOCATION:Virtual
END:VEVENT
BEGIN:VEVENT
DTSTART;TZID=America/New_York:20281201T160000
DTEND;TZID=America/New_York:20281201T170000
DTSTAMP:20260420T234016
CREATED:20260417T130221Z
LAST-MODIFIED:20260417T130221Z
UID:10000708-1859299200-1859302800@www.napsa-now.org
SUMMARY:Friday National Policy Meeting
DESCRIPTION:This meeting is held every Friday from 4-5 pm EST. \nThis meeting is invite only.
URL:https://www.napsa-now.org/calendar/friday-national-policy-meeting/2028-12-01/
LOCATION:Virtual
END:VEVENT
BEGIN:VEVENT
DTSTART;TZID=America/New_York:20281208T160000
DTEND;TZID=America/New_York:20281208T170000
DTSTAMP:20260420T234016
CREATED:20260417T130221Z
LAST-MODIFIED:20260417T130221Z
UID:10000709-1859904000-1859907600@www.napsa-now.org
SUMMARY:Friday National Policy Meeting
DESCRIPTION:This meeting is held every Friday from 4-5 pm EST. \nThis meeting is invite only.
URL:https://www.napsa-now.org/calendar/friday-national-policy-meeting/2028-12-08/
LOCATION:Virtual
END:VEVENT
BEGIN:VEVENT
DTSTART;TZID=America/New_York:20281215T160000
DTEND;TZID=America/New_York:20281215T170000
DTSTAMP:20260420T234016
CREATED:20260417T130221Z
LAST-MODIFIED:20260417T130221Z
UID:10000710-1860508800-1860512400@www.napsa-now.org
SUMMARY:Friday National Policy Meeting
DESCRIPTION:This meeting is held every Friday from 4-5 pm EST. \nThis meeting is invite only.
URL:https://www.napsa-now.org/calendar/friday-national-policy-meeting/2028-12-15/
LOCATION:Virtual
END:VEVENT
BEGIN:VEVENT
DTSTART;TZID=America/New_York:20281222T160000
DTEND;TZID=America/New_York:20281222T170000
DTSTAMP:20260420T234016
CREATED:20260417T130221Z
LAST-MODIFIED:20260417T130221Z
UID:10000711-1861113600-1861117200@www.napsa-now.org
SUMMARY:Friday National Policy Meeting
DESCRIPTION:This meeting is held every Friday from 4-5 pm EST. \nThis meeting is invite only.
URL:https://www.napsa-now.org/calendar/friday-national-policy-meeting/2028-12-22/
LOCATION:Virtual
END:VEVENT
BEGIN:VEVENT
DTSTART;TZID=America/New_York:20281229T160000
DTEND;TZID=America/New_York:20281229T170000
DTSTAMP:20260420T234016
CREATED:20260417T130221Z
LAST-MODIFIED:20260417T130221Z
UID:10000712-1861718400-1861722000@www.napsa-now.org
SUMMARY:Friday National Policy Meeting
DESCRIPTION:This meeting is held every Friday from 4-5 pm EST. \nThis meeting is invite only.
URL:https://www.napsa-now.org/calendar/friday-national-policy-meeting/2028-12-29/
LOCATION:Virtual
END:VEVENT
BEGIN:VEVENT
DTSTART;TZID=America/New_York:20290102T110000
DTEND;TZID=America/New_York:20290102T123000
DTSTAMP:20260420T234016
CREATED:20260303T162632Z
LAST-MODIFIED:20260303T162948Z
UID:10000472-1862046000-1862051400@www.napsa-now.org
SUMMARY:Ethics Committee
DESCRIPTION:This meeting is held the 2nd Tuesday of every other month from 11-12:30 pm EST. Must be a NAPSA Member. Please contact admin@napsa-now.org to gain access to the meetings.
URL:https://www.napsa-now.org/calendar/ethics-committee-2026/2029-01-02/
CATEGORIES:Ethics Committee
END:VEVENT
BEGIN:VEVENT
DTSTART;TZID=America/New_York:20290102T110000
DTEND;TZID=America/New_York:20290102T123000
DTSTAMP:20260420T234016
CREATED:20260417T155337Z
LAST-MODIFIED:20260417T155457Z
UID:10000928-1862046000-1862051400@www.napsa-now.org
SUMMARY:Ethics Committee Meeting
DESCRIPTION:This meeting is held the 1st Tuesday every 2 months from 11 AM-12:30 PM EST. \nPlease contact admin@napsa-now.org to gain access to the meetings.
URL:https://www.napsa-now.org/calendar/ethics-committee/2029-01-02/
LOCATION:Virtual
CATEGORIES:Ethics Committee
END:VEVENT
BEGIN:VEVENT
DTSTART;TZID=America/New_York:20290105T160000
DTEND;TZID=America/New_York:20290105T170000
DTSTAMP:20260420T234016
CREATED:20260417T130221Z
LAST-MODIFIED:20260417T130221Z
UID:10000713-1862323200-1862326800@www.napsa-now.org
SUMMARY:Friday National Policy Meeting
DESCRIPTION:This meeting is held every Friday from 4-5 pm EST. \nThis meeting is invite only.
URL:https://www.napsa-now.org/calendar/friday-national-policy-meeting/2029-01-05/
LOCATION:Virtual
END:VEVENT
BEGIN:VEVENT
DTSTART;TZID=America/New_York:20290109T140000
DTEND;TZID=America/New_York:20290109T143000
DTSTAMP:20260420T234016
CREATED:20250130T194749Z
LAST-MODIFIED:20250130T194749Z
UID:10000397-1862661600-1862663400@www.napsa-now.org
SUMMARY:APS Nurses Group
DESCRIPTION:This meeting is held the 2nd Tuesday of every other month from 2-3:30 pm EST. \nPlease contact admin@napsa-now.org to gain access to the meetings.
URL:https://www.napsa-now.org/calendar/aps-nurses-group/2029-01-09/
LOCATION:Virtual
END:VEVENT
BEGIN:VEVENT
DTSTART;TZID=America/New_York:20290112T160000
DTEND;TZID=America/New_York:20290112T170000
DTSTAMP:20260420T234016
CREATED:20260417T130221Z
LAST-MODIFIED:20260417T130221Z
UID:10000714-1862928000-1862931600@www.napsa-now.org
SUMMARY:Friday National Policy Meeting
DESCRIPTION:This meeting is held every Friday from 4-5 pm EST. \nThis meeting is invite only.
URL:https://www.napsa-now.org/calendar/friday-national-policy-meeting/2029-01-12/
LOCATION:Virtual
END:VEVENT
BEGIN:VEVENT
DTSTART;TZID=America/New_York:20290119T160000
DTEND;TZID=America/New_York:20290119T170000
DTSTAMP:20260420T234016
CREATED:20260417T130221Z
LAST-MODIFIED:20260417T130221Z
UID:10000715-1863532800-1863536400@www.napsa-now.org
SUMMARY:Friday National Policy Meeting
DESCRIPTION:This meeting is held every Friday from 4-5 pm EST. \nThis meeting is invite only.
URL:https://www.napsa-now.org/calendar/friday-national-policy-meeting/2029-01-19/
LOCATION:Virtual
END:VEVENT
BEGIN:VEVENT
DTSTART;TZID=America/New_York:20290126T160000
DTEND;TZID=America/New_York:20290126T170000
DTSTAMP:20260420T234016
CREATED:20260417T130221Z
LAST-MODIFIED:20260417T130221Z
UID:10000716-1864137600-1864141200@www.napsa-now.org
SUMMARY:Friday National Policy Meeting
DESCRIPTION:This meeting is held every Friday from 4-5 pm EST. \nThis meeting is invite only.
URL:https://www.napsa-now.org/calendar/friday-national-policy-meeting/2029-01-26/
LOCATION:Virtual
END:VEVENT
BEGIN:VEVENT
DTSTART;TZID=America/New_York:20290202T160000
DTEND;TZID=America/New_York:20290202T170000
DTSTAMP:20260420T234016
CREATED:20260417T130221Z
LAST-MODIFIED:20260417T130221Z
UID:10000717-1864742400-1864746000@www.napsa-now.org
SUMMARY:Friday National Policy Meeting
DESCRIPTION:This meeting is held every Friday from 4-5 pm EST. \nThis meeting is invite only.
URL:https://www.napsa-now.org/calendar/friday-national-policy-meeting/2029-02-02/
LOCATION:Virtual
END:VEVENT
BEGIN:VEVENT
DTSTART;TZID=America/New_York:20290209T160000
DTEND;TZID=America/New_York:20290209T170000
DTSTAMP:20260420T234016
CREATED:20260417T130221Z
LAST-MODIFIED:20260417T130221Z
UID:10000718-1865347200-1865350800@www.napsa-now.org
SUMMARY:Friday National Policy Meeting
DESCRIPTION:This meeting is held every Friday from 4-5 pm EST. \nThis meeting is invite only.
URL:https://www.napsa-now.org/calendar/friday-national-policy-meeting/2029-02-09/
LOCATION:Virtual
END:VEVENT
BEGIN:VEVENT
DTSTART;TZID=America/New_York:20290216T160000
DTEND;TZID=America/New_York:20290216T170000
DTSTAMP:20260420T234016
CREATED:20260417T130221Z
LAST-MODIFIED:20260417T130221Z
UID:10000719-1865952000-1865955600@www.napsa-now.org
SUMMARY:Friday National Policy Meeting
DESCRIPTION:This meeting is held every Friday from 4-5 pm EST. \nThis meeting is invite only.
URL:https://www.napsa-now.org/calendar/friday-national-policy-meeting/2029-02-16/
LOCATION:Virtual
END:VEVENT
BEGIN:VEVENT
DTSTART;TZID=America/New_York:20290223T160000
DTEND;TZID=America/New_York:20290223T170000
DTSTAMP:20260420T234016
CREATED:20260417T130221Z
LAST-MODIFIED:20260417T130221Z
UID:10000720-1866556800-1866560400@www.napsa-now.org
SUMMARY:Friday National Policy Meeting
DESCRIPTION:This meeting is held every Friday from 4-5 pm EST. \nThis meeting is invite only.
URL:https://www.napsa-now.org/calendar/friday-national-policy-meeting/2029-02-23/
LOCATION:Virtual
END:VEVENT
BEGIN:VEVENT
DTSTART;TZID=America/New_York:20290302T160000
DTEND;TZID=America/New_York:20290302T170000
DTSTAMP:20260420T234016
CREATED:20260417T130221Z
LAST-MODIFIED:20260417T130221Z
UID:10000721-1867161600-1867165200@www.napsa-now.org
SUMMARY:Friday National Policy Meeting
DESCRIPTION:This meeting is held every Friday from 4-5 pm EST. \nThis meeting is invite only.
URL:https://www.napsa-now.org/calendar/friday-national-policy-meeting/2029-03-02/
LOCATION:Virtual
END:VEVENT
BEGIN:VEVENT
DTSTART;TZID=America/New_York:20290306T110000
DTEND;TZID=America/New_York:20290306T123000
DTSTAMP:20260420T234016
CREATED:20260417T155337Z
LAST-MODIFIED:20260417T155457Z
UID:10000929-1867489200-1867494600@www.napsa-now.org
SUMMARY:Ethics Committee Meeting
DESCRIPTION:This meeting is held the 1st Tuesday every 2 months from 11 AM-12:30 PM EST. \nPlease contact admin@napsa-now.org to gain access to the meetings.
URL:https://www.napsa-now.org/calendar/ethics-committee/2029-03-06/
LOCATION:Virtual
CATEGORIES:Ethics Committee
END:VEVENT
BEGIN:VEVENT
DTSTART;TZID=America/New_York:20290309T160000
DTEND;TZID=America/New_York:20290309T170000
DTSTAMP:20260420T234016
CREATED:20260417T130221Z
LAST-MODIFIED:20260417T130221Z
UID:10000722-1867766400-1867770000@www.napsa-now.org
SUMMARY:Friday National Policy Meeting
DESCRIPTION:This meeting is held every Friday from 4-5 pm EST. \nThis meeting is invite only.
URL:https://www.napsa-now.org/calendar/friday-national-policy-meeting/2029-03-09/
LOCATION:Virtual
END:VEVENT
END:VCALENDAR