BEGIN:VCALENDAR
VERSION:2.0
PRODID:-//NAPSA - ECPv6.15.20//NONSGML v1.0//EN
CALSCALE:GREGORIAN
METHOD:PUBLISH
X-ORIGINAL-URL:https://www.napsa-now.org
X-WR-CALDESC:Events for NAPSA
REFRESH-INTERVAL;VALUE=DURATION:PT1H
X-Robots-Tag:noindex
X-PUBLISHED-TTL:PT1H
BEGIN:VTIMEZONE
TZID:America/New_York
BEGIN:DAYLIGHT
TZOFFSETFROM:-0500
TZOFFSETTO:-0400
TZNAME:EDT
DTSTART:20290311T070000
END:DAYLIGHT
BEGIN:STANDARD
TZOFFSETFROM:-0400
TZOFFSETTO:-0500
TZNAME:EST
DTSTART:20291104T060000
END:STANDARD
BEGIN:DAYLIGHT
TZOFFSETFROM:-0500
TZOFFSETTO:-0400
TZNAME:EDT
DTSTART:20300310T070000
END:DAYLIGHT
BEGIN:STANDARD
TZOFFSETFROM:-0400
TZOFFSETTO:-0500
TZNAME:EST
DTSTART:20301103T060000
END:STANDARD
BEGIN:DAYLIGHT
TZOFFSETFROM:-0500
TZOFFSETTO:-0400
TZNAME:EDT
DTSTART:20310309T070000
END:DAYLIGHT
BEGIN:STANDARD
TZOFFSETFROM:-0400
TZOFFSETTO:-0500
TZNAME:EST
DTSTART:20311102T060000
END:STANDARD
END:VTIMEZONE
BEGIN:VEVENT
DTSTART;TZID=America/New_York:20300426T160000
DTEND;TZID=America/New_York:20300426T170000
DTSTAMP:20260423T072252
CREATED:20260417T130221Z
LAST-MODIFIED:20260417T130221Z
UID:10000781-1903449600-1903453200@www.napsa-now.org
SUMMARY:Friday National Policy Meeting
DESCRIPTION:This meeting is held every Friday from 4-5 pm EST. \nThis meeting is invite only.
URL:https://www.napsa-now.org/calendar/friday-national-policy-meeting/2030-04-26/
LOCATION:Virtual
END:VEVENT
BEGIN:VEVENT
DTSTART;TZID=America/New_York:20300503T160000
DTEND;TZID=America/New_York:20300503T170000
DTSTAMP:20260423T072252
CREATED:20260417T130221Z
LAST-MODIFIED:20260417T130221Z
UID:10000782-1904054400-1904058000@www.napsa-now.org
SUMMARY:Friday National Policy Meeting
DESCRIPTION:This meeting is held every Friday from 4-5 pm EST. \nThis meeting is invite only.
URL:https://www.napsa-now.org/calendar/friday-national-policy-meeting/2030-05-03/
LOCATION:Virtual
END:VEVENT
BEGIN:VEVENT
DTSTART;TZID=America/New_York:20300507T110000
DTEND;TZID=America/New_York:20300507T123000
DTSTAMP:20260423T072252
CREATED:20260417T155337Z
LAST-MODIFIED:20260417T155457Z
UID:10000936-1904382000-1904387400@www.napsa-now.org
SUMMARY:Ethics Committee Meeting
DESCRIPTION:This meeting is held the 1st Tuesday every 2 months from 11 AM-12:30 PM EST. \nPlease contact admin@napsa-now.org to gain access to the meetings.
URL:https://www.napsa-now.org/calendar/ethics-committee/2030-05-07/
LOCATION:Virtual
CATEGORIES:Ethics Committee
END:VEVENT
BEGIN:VEVENT
DTSTART;TZID=America/New_York:20300510T160000
DTEND;TZID=America/New_York:20300510T170000
DTSTAMP:20260423T072252
CREATED:20260417T130221Z
LAST-MODIFIED:20260417T130221Z
UID:10000783-1904659200-1904662800@www.napsa-now.org
SUMMARY:Friday National Policy Meeting
DESCRIPTION:This meeting is held every Friday from 4-5 pm EST. \nThis meeting is invite only.
URL:https://www.napsa-now.org/calendar/friday-national-policy-meeting/2030-05-10/
LOCATION:Virtual
END:VEVENT
BEGIN:VEVENT
DTSTART;TZID=America/New_York:20300517T160000
DTEND;TZID=America/New_York:20300517T170000
DTSTAMP:20260423T072252
CREATED:20260417T130221Z
LAST-MODIFIED:20260417T130221Z
UID:10000784-1905264000-1905267600@www.napsa-now.org
SUMMARY:Friday National Policy Meeting
DESCRIPTION:This meeting is held every Friday from 4-5 pm EST. \nThis meeting is invite only.
URL:https://www.napsa-now.org/calendar/friday-national-policy-meeting/2030-05-17/
LOCATION:Virtual
END:VEVENT
BEGIN:VEVENT
DTSTART;TZID=America/New_York:20300524T160000
DTEND;TZID=America/New_York:20300524T170000
DTSTAMP:20260423T072252
CREATED:20260417T130221Z
LAST-MODIFIED:20260417T130221Z
UID:10000785-1905868800-1905872400@www.napsa-now.org
SUMMARY:Friday National Policy Meeting
DESCRIPTION:This meeting is held every Friday from 4-5 pm EST. \nThis meeting is invite only.
URL:https://www.napsa-now.org/calendar/friday-national-policy-meeting/2030-05-24/
LOCATION:Virtual
END:VEVENT
BEGIN:VEVENT
DTSTART;TZID=America/New_York:20300531T160000
DTEND;TZID=America/New_York:20300531T170000
DTSTAMP:20260423T072252
CREATED:20260417T130221Z
LAST-MODIFIED:20260417T130221Z
UID:10000786-1906473600-1906477200@www.napsa-now.org
SUMMARY:Friday National Policy Meeting
DESCRIPTION:This meeting is held every Friday from 4-5 pm EST. \nThis meeting is invite only.
URL:https://www.napsa-now.org/calendar/friday-national-policy-meeting/2030-05-31/
LOCATION:Virtual
END:VEVENT
BEGIN:VEVENT
DTSTART;TZID=America/New_York:20300607T160000
DTEND;TZID=America/New_York:20300607T170000
DTSTAMP:20260423T072252
CREATED:20260417T130221Z
LAST-MODIFIED:20260417T130221Z
UID:10000787-1907078400-1907082000@www.napsa-now.org
SUMMARY:Friday National Policy Meeting
DESCRIPTION:This meeting is held every Friday from 4-5 pm EST. \nThis meeting is invite only.
URL:https://www.napsa-now.org/calendar/friday-national-policy-meeting/2030-06-07/
LOCATION:Virtual
END:VEVENT
BEGIN:VEVENT
DTSTART;TZID=America/New_York:20300614T160000
DTEND;TZID=America/New_York:20300614T170000
DTSTAMP:20260423T072252
CREATED:20260417T130221Z
LAST-MODIFIED:20260417T130221Z
UID:10000788-1907683200-1907686800@www.napsa-now.org
SUMMARY:Friday National Policy Meeting
DESCRIPTION:This meeting is held every Friday from 4-5 pm EST. \nThis meeting is invite only.
URL:https://www.napsa-now.org/calendar/friday-national-policy-meeting/2030-06-14/
LOCATION:Virtual
END:VEVENT
BEGIN:VEVENT
DTSTART;TZID=America/New_York:20300621T160000
DTEND;TZID=America/New_York:20300621T170000
DTSTAMP:20260423T072252
CREATED:20260417T130221Z
LAST-MODIFIED:20260417T130221Z
UID:10000789-1908288000-1908291600@www.napsa-now.org
SUMMARY:Friday National Policy Meeting
DESCRIPTION:This meeting is held every Friday from 4-5 pm EST. \nThis meeting is invite only.
URL:https://www.napsa-now.org/calendar/friday-national-policy-meeting/2030-06-21/
LOCATION:Virtual
END:VEVENT
BEGIN:VEVENT
DTSTART;TZID=America/New_York:20300628T160000
DTEND;TZID=America/New_York:20300628T170000
DTSTAMP:20260423T072252
CREATED:20260417T130221Z
LAST-MODIFIED:20260417T130221Z
UID:10000790-1908892800-1908896400@www.napsa-now.org
SUMMARY:Friday National Policy Meeting
DESCRIPTION:This meeting is held every Friday from 4-5 pm EST. \nThis meeting is invite only.
URL:https://www.napsa-now.org/calendar/friday-national-policy-meeting/2030-06-28/
LOCATION:Virtual
END:VEVENT
BEGIN:VEVENT
DTSTART;TZID=America/New_York:20300702T110000
DTEND;TZID=America/New_York:20300702T123000
DTSTAMP:20260423T072252
CREATED:20260417T155337Z
LAST-MODIFIED:20260417T155457Z
UID:10000937-1909220400-1909225800@www.napsa-now.org
SUMMARY:Ethics Committee Meeting
DESCRIPTION:This meeting is held the 1st Tuesday every 2 months from 11 AM-12:30 PM EST. \nPlease contact admin@napsa-now.org to gain access to the meetings.
URL:https://www.napsa-now.org/calendar/ethics-committee/2030-07-02/
LOCATION:Virtual
CATEGORIES:Ethics Committee
END:VEVENT
BEGIN:VEVENT
DTSTART;TZID=America/New_York:20300705T160000
DTEND;TZID=America/New_York:20300705T170000
DTSTAMP:20260423T072252
CREATED:20260417T130221Z
LAST-MODIFIED:20260417T130221Z
UID:10000791-1909497600-1909501200@www.napsa-now.org
SUMMARY:Friday National Policy Meeting
DESCRIPTION:This meeting is held every Friday from 4-5 pm EST. \nThis meeting is invite only.
URL:https://www.napsa-now.org/calendar/friday-national-policy-meeting/2030-07-05/
LOCATION:Virtual
END:VEVENT
BEGIN:VEVENT
DTSTART;TZID=America/New_York:20300712T160000
DTEND;TZID=America/New_York:20300712T170000
DTSTAMP:20260423T072252
CREATED:20260417T130221Z
LAST-MODIFIED:20260417T130221Z
UID:10000792-1910102400-1910106000@www.napsa-now.org
SUMMARY:Friday National Policy Meeting
DESCRIPTION:This meeting is held every Friday from 4-5 pm EST. \nThis meeting is invite only.
URL:https://www.napsa-now.org/calendar/friday-national-policy-meeting/2030-07-12/
LOCATION:Virtual
END:VEVENT
BEGIN:VEVENT
DTSTART;TZID=America/New_York:20300719T160000
DTEND;TZID=America/New_York:20300719T170000
DTSTAMP:20260423T072252
CREATED:20260417T130221Z
LAST-MODIFIED:20260417T130221Z
UID:10000793-1910707200-1910710800@www.napsa-now.org
SUMMARY:Friday National Policy Meeting
DESCRIPTION:This meeting is held every Friday from 4-5 pm EST. \nThis meeting is invite only.
URL:https://www.napsa-now.org/calendar/friday-national-policy-meeting/2030-07-19/
LOCATION:Virtual
END:VEVENT
BEGIN:VEVENT
DTSTART;TZID=America/New_York:20300726T160000
DTEND;TZID=America/New_York:20300726T170000
DTSTAMP:20260423T072252
CREATED:20260417T130221Z
LAST-MODIFIED:20260417T130221Z
UID:10000794-1911312000-1911315600@www.napsa-now.org
SUMMARY:Friday National Policy Meeting
DESCRIPTION:This meeting is held every Friday from 4-5 pm EST. \nThis meeting is invite only.
URL:https://www.napsa-now.org/calendar/friday-national-policy-meeting/2030-07-26/
LOCATION:Virtual
END:VEVENT
BEGIN:VEVENT
DTSTART;TZID=America/New_York:20300802T160000
DTEND;TZID=America/New_York:20300802T170000
DTSTAMP:20260423T072252
CREATED:20260417T130221Z
LAST-MODIFIED:20260417T130221Z
UID:10000795-1911916800-1911920400@www.napsa-now.org
SUMMARY:Friday National Policy Meeting
DESCRIPTION:This meeting is held every Friday from 4-5 pm EST. \nThis meeting is invite only.
URL:https://www.napsa-now.org/calendar/friday-national-policy-meeting/2030-08-02/
LOCATION:Virtual
END:VEVENT
BEGIN:VEVENT
DTSTART;TZID=America/New_York:20300809T160000
DTEND;TZID=America/New_York:20300809T170000
DTSTAMP:20260423T072252
CREATED:20260417T130221Z
LAST-MODIFIED:20260417T130221Z
UID:10000796-1912521600-1912525200@www.napsa-now.org
SUMMARY:Friday National Policy Meeting
DESCRIPTION:This meeting is held every Friday from 4-5 pm EST. \nThis meeting is invite only.
URL:https://www.napsa-now.org/calendar/friday-national-policy-meeting/2030-08-09/
LOCATION:Virtual
END:VEVENT
BEGIN:VEVENT
DTSTART;TZID=America/New_York:20300816T160000
DTEND;TZID=America/New_York:20300816T170000
DTSTAMP:20260423T072252
CREATED:20260417T130221Z
LAST-MODIFIED:20260417T130221Z
UID:10000797-1913126400-1913130000@www.napsa-now.org
SUMMARY:Friday National Policy Meeting
DESCRIPTION:This meeting is held every Friday from 4-5 pm EST. \nThis meeting is invite only.
URL:https://www.napsa-now.org/calendar/friday-national-policy-meeting/2030-08-16/
LOCATION:Virtual
END:VEVENT
BEGIN:VEVENT
DTSTART;TZID=America/New_York:20300823T160000
DTEND;TZID=America/New_York:20300823T170000
DTSTAMP:20260423T072252
CREATED:20260417T130221Z
LAST-MODIFIED:20260417T130221Z
UID:10000798-1913731200-1913734800@www.napsa-now.org
SUMMARY:Friday National Policy Meeting
DESCRIPTION:This meeting is held every Friday from 4-5 pm EST. \nThis meeting is invite only.
URL:https://www.napsa-now.org/calendar/friday-national-policy-meeting/2030-08-23/
LOCATION:Virtual
END:VEVENT
BEGIN:VEVENT
DTSTART;TZID=America/New_York:20300830T160000
DTEND;TZID=America/New_York:20300830T170000
DTSTAMP:20260423T072252
CREATED:20260417T130221Z
LAST-MODIFIED:20260417T130221Z
UID:10000799-1914336000-1914339600@www.napsa-now.org
SUMMARY:Friday National Policy Meeting
DESCRIPTION:This meeting is held every Friday from 4-5 pm EST. \nThis meeting is invite only.
URL:https://www.napsa-now.org/calendar/friday-national-policy-meeting/2030-08-30/
LOCATION:Virtual
END:VEVENT
BEGIN:VEVENT
DTSTART;TZID=America/New_York:20300903T110000
DTEND;TZID=America/New_York:20300903T123000
DTSTAMP:20260423T072252
CREATED:20260417T155337Z
LAST-MODIFIED:20260417T155457Z
UID:10000938-1914663600-1914669000@www.napsa-now.org
SUMMARY:Ethics Committee Meeting
DESCRIPTION:This meeting is held the 1st Tuesday every 2 months from 11 AM-12:30 PM EST. \nPlease contact admin@napsa-now.org to gain access to the meetings.
URL:https://www.napsa-now.org/calendar/ethics-committee/2030-09-03/
LOCATION:Virtual
CATEGORIES:Ethics Committee
END:VEVENT
BEGIN:VEVENT
DTSTART;TZID=America/New_York:20300906T160000
DTEND;TZID=America/New_York:20300906T170000
DTSTAMP:20260423T072252
CREATED:20260417T130221Z
LAST-MODIFIED:20260417T130221Z
UID:10000800-1914940800-1914944400@www.napsa-now.org
SUMMARY:Friday National Policy Meeting
DESCRIPTION:This meeting is held every Friday from 4-5 pm EST. \nThis meeting is invite only.
URL:https://www.napsa-now.org/calendar/friday-national-policy-meeting/2030-09-06/
LOCATION:Virtual
END:VEVENT
BEGIN:VEVENT
DTSTART;TZID=America/New_York:20300913T160000
DTEND;TZID=America/New_York:20300913T170000
DTSTAMP:20260423T072252
CREATED:20260417T130221Z
LAST-MODIFIED:20260417T130221Z
UID:10000801-1915545600-1915549200@www.napsa-now.org
SUMMARY:Friday National Policy Meeting
DESCRIPTION:This meeting is held every Friday from 4-5 pm EST. \nThis meeting is invite only.
URL:https://www.napsa-now.org/calendar/friday-national-policy-meeting/2030-09-13/
LOCATION:Virtual
END:VEVENT
BEGIN:VEVENT
DTSTART;TZID=America/New_York:20300920T160000
DTEND;TZID=America/New_York:20300920T170000
DTSTAMP:20260423T072252
CREATED:20260417T130221Z
LAST-MODIFIED:20260417T130221Z
UID:10000802-1916150400-1916154000@www.napsa-now.org
SUMMARY:Friday National Policy Meeting
DESCRIPTION:This meeting is held every Friday from 4-5 pm EST. \nThis meeting is invite only.
URL:https://www.napsa-now.org/calendar/friday-national-policy-meeting/2030-09-20/
LOCATION:Virtual
END:VEVENT
BEGIN:VEVENT
DTSTART;TZID=America/New_York:20300927T160000
DTEND;TZID=America/New_York:20300927T170000
DTSTAMP:20260423T072252
CREATED:20260417T130221Z
LAST-MODIFIED:20260417T130221Z
UID:10000803-1916755200-1916758800@www.napsa-now.org
SUMMARY:Friday National Policy Meeting
DESCRIPTION:This meeting is held every Friday from 4-5 pm EST. \nThis meeting is invite only.
URL:https://www.napsa-now.org/calendar/friday-national-policy-meeting/2030-09-27/
LOCATION:Virtual
END:VEVENT
BEGIN:VEVENT
DTSTART;TZID=America/New_York:20301004T160000
DTEND;TZID=America/New_York:20301004T170000
DTSTAMP:20260423T072252
CREATED:20260417T130221Z
LAST-MODIFIED:20260417T130221Z
UID:10000804-1917360000-1917363600@www.napsa-now.org
SUMMARY:Friday National Policy Meeting
DESCRIPTION:This meeting is held every Friday from 4-5 pm EST. \nThis meeting is invite only.
URL:https://www.napsa-now.org/calendar/friday-national-policy-meeting/2030-10-04/
LOCATION:Virtual
END:VEVENT
BEGIN:VEVENT
DTSTART;TZID=America/New_York:20301011T160000
DTEND;TZID=America/New_York:20301011T170000
DTSTAMP:20260423T072252
CREATED:20260417T130221Z
LAST-MODIFIED:20260417T130221Z
UID:10000805-1917964800-1917968400@www.napsa-now.org
SUMMARY:Friday National Policy Meeting
DESCRIPTION:This meeting is held every Friday from 4-5 pm EST. \nThis meeting is invite only.
URL:https://www.napsa-now.org/calendar/friday-national-policy-meeting/2030-10-11/
LOCATION:Virtual
END:VEVENT
BEGIN:VEVENT
DTSTART;TZID=America/New_York:20301018T160000
DTEND;TZID=America/New_York:20301018T170000
DTSTAMP:20260423T072252
CREATED:20260417T130221Z
LAST-MODIFIED:20260417T130221Z
UID:10000806-1918569600-1918573200@www.napsa-now.org
SUMMARY:Friday National Policy Meeting
DESCRIPTION:This meeting is held every Friday from 4-5 pm EST. \nThis meeting is invite only.
URL:https://www.napsa-now.org/calendar/friday-national-policy-meeting/2030-10-18/
LOCATION:Virtual
END:VEVENT
BEGIN:VEVENT
DTSTART;TZID=America/New_York:20301025T160000
DTEND;TZID=America/New_York:20301025T170000
DTSTAMP:20260423T072252
CREATED:20260417T130221Z
LAST-MODIFIED:20260417T130221Z
UID:10000807-1919174400-1919178000@www.napsa-now.org
SUMMARY:Friday National Policy Meeting
DESCRIPTION:This meeting is held every Friday from 4-5 pm EST. \nThis meeting is invite only.
URL:https://www.napsa-now.org/calendar/friday-national-policy-meeting/2030-10-25/
LOCATION:Virtual
END:VEVENT
END:VCALENDAR