BEGIN:VCALENDAR
VERSION:2.0
PRODID:-//NAPSA - ECPv6.15.20//NONSGML v1.0//EN
CALSCALE:GREGORIAN
METHOD:PUBLISH
X-ORIGINAL-URL:https://www.napsa-now.org
X-WR-CALDESC:Events for NAPSA
REFRESH-INTERVAL;VALUE=DURATION:PT1H
X-Robots-Tag:noindex
X-PUBLISHED-TTL:PT1H
BEGIN:VTIMEZONE
TZID:America/New_York
BEGIN:DAYLIGHT
TZOFFSETFROM:-0500
TZOFFSETTO:-0400
TZNAME:EDT
DTSTART:20240310T070000
END:DAYLIGHT
BEGIN:STANDARD
TZOFFSETFROM:-0400
TZOFFSETTO:-0500
TZNAME:EST
DTSTART:20241103T060000
END:STANDARD
BEGIN:DAYLIGHT
TZOFFSETFROM:-0500
TZOFFSETTO:-0400
TZNAME:EDT
DTSTART:20250309T070000
END:DAYLIGHT
BEGIN:STANDARD
TZOFFSETFROM:-0400
TZOFFSETTO:-0500
TZNAME:EST
DTSTART:20251102T060000
END:STANDARD
BEGIN:DAYLIGHT
TZOFFSETFROM:-0500
TZOFFSETTO:-0400
TZNAME:EDT
DTSTART:20260308T070000
END:DAYLIGHT
BEGIN:STANDARD
TZOFFSETFROM:-0400
TZOFFSETTO:-0500
TZNAME:EST
DTSTART:20261101T060000
END:STANDARD
END:VTIMEZONE
BEGIN:VEVENT
DTSTART;VALUE=DATE:20250321
DTEND;VALUE=DATE:20250322
DTSTAMP:20260424T024218
CREATED:20250228T144806Z
LAST-MODIFIED:20250228T150400Z
UID:10000447-1742515200-1742601599@www.napsa-now.org
SUMMARY:Workshop Proposal Submission Deadline
DESCRIPTION:The NAPSA Conference would not be possible without the invaluable contributions of our workshop presenters! Aligned with the 2025 NAPSA Conference theme\, “Building Partnerships\, Inspiring Innovation\,” we encourage workshop topics that showcase collaborative efforts\, groundbreaking research\, and innovative strategies driving APS forward. Click here to submit your 2025 NAPSA Conference workshop proposal!
URL:https://www.napsa-now.org/calendar/workshop-proposal-submission-deadline/
LOCATION:Virtual
END:VEVENT
BEGIN:VEVENT
DTSTART;TZID=America/New_York:20250321T143000
DTEND;TZID=America/New_York:20250321T153000
DTSTAMP:20260424T024218
CREATED:20250130T212802Z
LAST-MODIFIED:20250130T212802Z
UID:10000418-1742567400-1742571000@www.napsa-now.org
SUMMARY:Public Policy Committee Meeting
DESCRIPTION:This meeting is held the 3rd Friday of the month from 2:30-3:30 pm EST. \nPlease contact admin@napsa-now.org to gain access to the meetings.
URL:https://www.napsa-now.org/calendar/public-policy-committee-meeting-3/2025-03-21/
LOCATION:Virtual
CATEGORIES:Public Policy Committee
END:VEVENT
END:VCALENDAR