BEGIN:VCALENDAR
VERSION:2.0
PRODID:-//NAPSA - ECPv6.15.20//NONSGML v1.0//EN
CALSCALE:GREGORIAN
METHOD:PUBLISH
X-WR-CALNAME:NAPSA
X-ORIGINAL-URL:https://www.napsa-now.org
X-WR-CALDESC:Events for NAPSA
REFRESH-INTERVAL;VALUE=DURATION:PT1H
X-Robots-Tag:noindex
X-PUBLISHED-TTL:PT1H
BEGIN:VTIMEZONE
TZID:America/New_York
BEGIN:DAYLIGHT
TZOFFSETFROM:-0500
TZOFFSETTO:-0400
TZNAME:EDT
DTSTART:20230312T070000
END:DAYLIGHT
BEGIN:STANDARD
TZOFFSETFROM:-0400
TZOFFSETTO:-0500
TZNAME:EST
DTSTART:20231105T060000
END:STANDARD
BEGIN:DAYLIGHT
TZOFFSETFROM:-0500
TZOFFSETTO:-0400
TZNAME:EDT
DTSTART:20240310T070000
END:DAYLIGHT
BEGIN:STANDARD
TZOFFSETFROM:-0400
TZOFFSETTO:-0500
TZNAME:EST
DTSTART:20241103T060000
END:STANDARD
BEGIN:DAYLIGHT
TZOFFSETFROM:-0500
TZOFFSETTO:-0400
TZNAME:EDT
DTSTART:20250309T070000
END:DAYLIGHT
BEGIN:STANDARD
TZOFFSETFROM:-0400
TZOFFSETTO:-0500
TZNAME:EST
DTSTART:20251102T060000
END:STANDARD
END:VTIMEZONE
BEGIN:VEVENT
DTSTART;TZID=America/New_York:20241226T123000
DTEND;TZID=America/New_York:20241226T133000
DTSTAMP:20260425T222623
CREATED:20240219T165638Z
LAST-MODIFIED:20240401T144142Z
UID:10000144-1735216200-1735219800@www.napsa-now.org
SUMMARY:Scam Advice Forum Webinar
DESCRIPTION:The Scam Advice Forum Webinar is held on the 4th Thursday of each month from 12:30-1:30 pm EST. \nTo register\, please click here.
URL:https://www.napsa-now.org/calendar/scam-advice-forum-webinar-2/2024-12-26/
LOCATION:Virtual
CATEGORIES:Scam Advice Forum
END:VEVENT
END:VCALENDAR